BEGIN:VCALENDAR
VERSION:2.0
PRODID:-//St. Elizabeth Healthcare - ECPv6.15.20//NONSGML v1.0//EN
CALSCALE:GREGORIAN
METHOD:PUBLISH
X-ORIGINAL-URL:https://www.stelizabeth.com
X-WR-CALDESC:Events for St. Elizabeth Healthcare
REFRESH-INTERVAL;VALUE=DURATION:PT1H
X-Robots-Tag:noindex
X-PUBLISHED-TTL:PT1H
BEGIN:VTIMEZONE
TZID:America/New_York
BEGIN:DAYLIGHT
TZOFFSETFROM:-0500
TZOFFSETTO:-0400
TZNAME:EDT
DTSTART:20250309T070000
END:DAYLIGHT
BEGIN:STANDARD
TZOFFSETFROM:-0400
TZOFFSETTO:-0500
TZNAME:EST
DTSTART:20251102T060000
END:STANDARD
BEGIN:DAYLIGHT
TZOFFSETFROM:-0500
TZOFFSETTO:-0400
TZNAME:EDT
DTSTART:20260308T070000
END:DAYLIGHT
BEGIN:STANDARD
TZOFFSETFROM:-0400
TZOFFSETTO:-0500
TZNAME:EST
DTSTART:20261101T060000
END:STANDARD
BEGIN:DAYLIGHT
TZOFFSETFROM:-0500
TZOFFSETTO:-0400
TZNAME:EDT
DTSTART:20270314T070000
END:DAYLIGHT
BEGIN:STANDARD
TZOFFSETFROM:-0400
TZOFFSETTO:-0500
TZNAME:EST
DTSTART:20271107T060000
END:STANDARD
END:VTIMEZONE
BEGIN:VEVENT
DTSTART;TZID=America/New_York:20261108T180000
DTEND;TZID=America/New_York:20261108T200000
DTSTAMP:20260423T015517
CREATED:20260416T192436Z
LAST-MODIFIED:20260416T192436Z
UID:10004354-1794160800-1794168000@www.stelizabeth.com
SUMMARY:Infant Care / Grandparents Class - November 8\, 2026
DESCRIPTION:Get hands on practice and up to date information to help care for your family’s newest little one. Participants will practice bathing and diapering\, and tips for soothing your little one will also be provided. Parents and grandparents will learn how to help a choking infant and toddler and car seat safety and infant safe sleep will also be discussed. \n                        \n                        CommentsThis field is for validation purposes and should be left unchanged.Name(Required)\n                            \n                            \n                                                    First\n                                                    \n                                                \n                            \n                            \n                                                            Last\n                                                            \n                                                        \n                            \n                        Phone(Required)Alternative Phone NumberEmail(Required)\n                                \n                                    Enter Email\n                                    \n                                \n                                \n                                    Confirm Email\n                                    \n                                \n                                \n                            Address    \n                    \n                         \n                                        Street Address\n                                        \n                                   \n                                        Address Line 2\n                                        \n                                    \n                                    City\n                                    \n                                 \n                                        State / Province / Region\n                                        \n                                      \n                                    ZIP / Postal Code\n                                    \n                                \n                                        Country\n                                        AfghanistanAlbaniaAlgeriaAmerican SamoaAndorraAngolaAnguillaAntarcticaAntigua and BarbudaArgentinaArmeniaArubaAustraliaAustriaAzerbaijanBahamasBahrainBangladeshBarbadosBelarusBelgiumBelizeBeninBermudaBhutanBoliviaBonaire\, Sint Eustatius and SabaBosnia and HerzegovinaBotswanaBouvet IslandBrazilBritish Indian Ocean TerritoryBrunei DarussalamBulgariaBurkina FasoBurundiCabo VerdeCambodiaCameroonCanadaCayman IslandsCentral African RepublicChadChileChinaChristmas IslandCocos IslandsColombiaComorosCongoCongo\, Democratic Republic of theCook IslandsCosta RicaCroatiaCubaCuraçaoCyprusCzechiaCôte d'IvoireDenmarkDjiboutiDominicaDominican RepublicEcuadorEgyptEl SalvadorEquatorial GuineaEritreaEstoniaEswatiniEthiopiaFalkland IslandsFaroe IslandsFijiFinlandFranceFrench GuianaFrench PolynesiaFrench Southern TerritoriesGabonGambiaGeorgiaGermanyGhanaGibraltarGreeceGreenlandGrenadaGuadeloupeGuamGuatemalaGuernseyGuineaGuinea-BissauGuyanaHaitiHeard Island and McDonald IslandsHoly SeeHondurasHong KongHungaryIcelandIndiaIndonesiaIranIraqIrelandIsle of ManIsraelItalyJamaicaJapanJerseyJordanKazakhstanKenyaKiribatiKorea\, Democratic People's Republic ofKorea\, Republic ofKuwaitKyrgyzstanLao People's Democratic RepublicLatviaLebanonLesothoLiberiaLibyaLiechtensteinLithuaniaLuxembourgMacaoMadagascarMalawiMalaysiaMaldivesMaliMaltaMarshall IslandsMartiniqueMauritaniaMauritiusMayotteMexicoMicronesiaMoldovaMonacoMongoliaMontenegroMontserratMoroccoMozambiqueMyanmarNamibiaNauruNepalNetherlandsNew CaledoniaNew ZealandNicaraguaNigerNigeriaNiueNorfolk IslandNorth MacedoniaNorthern Mariana IslandsNorwayOmanPakistanPalauPalestine\, State ofPanamaPapua New GuineaParaguayPeruPhilippinesPitcairnPolandPortugalPuerto RicoQatarRomaniaRussian FederationRwandaRéunionSaint BarthélemySaint Helena\, Ascension and Tristan da CunhaSaint Kitts and NevisSaint LuciaSaint MartinSaint Pierre and MiquelonSaint Vincent and the GrenadinesSamoaSan MarinoSao Tome and PrincipeSaudi ArabiaSenegalSerbiaSeychellesSierra LeoneSingaporeSint MaartenSlovakiaSloveniaSolomon IslandsSomaliaSouth AfricaSouth Georgia and the South Sandwich IslandsSouth SudanSpainSri LankaSudanSurinameSvalbard and Jan MayenSwedenSwitzerlandSyria Arab RepublicTaiwanTajikistanTanzania\, the United Republic ofThailandTimor-LesteTogoTokelauTongaTrinidad and TobagoTunisiaTurkmenistanTurks and Caicos IslandsTuvaluTürkiyeUS Minor Outlying IslandsUgandaUkraineUnited Arab EmiratesUnited KingdomUnited StatesUruguayUzbekistanVanuatuVenezuelaViet NamVirgin Islands\, BritishVirgin Islands\, U.S.Wallis and FutunaWestern SaharaYemenZambiaZimbabweÅland Islands \n                                    \n                    \n                hCaptcha
URL:https://www.stelizabeth.com/event/infant-care-grandparents-class-november-8-2026/
LOCATION:St. Elizabeth Healthcare – Edgewood\, KY\, 1 Medical Center Drive\, Edgewood\, KY\, 41017\, United States
CATEGORIES:Birthing Services
GEO:39.0186719;-84.581888
X-APPLE-STRUCTURED-LOCATION;VALUE=URI;X-ADDRESS=St. Elizabeth Healthcare – Edgewood KY 1 Medical Center Drive Edgewood KY 41017 United States;X-APPLE-RADIUS=500;X-TITLE=1 Medical Center Drive:geo:-84.581888,39.0186719
END:VEVENT
BEGIN:VEVENT
DTSTART;TZID=America/New_York:20261110T110000
DTEND;TZID=America/New_York:20261110T130000
DTSTAMP:20260423T015517
CREATED:20260206T221918Z
LAST-MODIFIED:20260206T221918Z
UID:10004110-1794308400-1794315600@www.stelizabeth.com
SUMMARY:Oncology Support Services: Services in Infusion: Peaceful Pause - Ft. Thomas
DESCRIPTION:Peaceful Pause\nBreathing exercises\, meditation\, and optional prayer to promote calm during infusion. \nVisit stelizabeth.com/integrative-oncology or call 859-301-4157 for more info.
URL:https://www.stelizabeth.com/event/oncology-support-services-services-in-infusion-peaceful-pause-ft-thomas/2026-11-10/
LOCATION:St. Elizabeth Healthcare – Ft. Thomas\, 85 N. Grand Ave\, Ft. Thomas\, 41075\, United States
CATEGORIES:Integrative Oncology
GEO:39.0786773;-84.4668479
X-APPLE-STRUCTURED-LOCATION;VALUE=URI;X-ADDRESS=St. Elizabeth Healthcare – Ft. Thomas 85 N. Grand Ave Ft. Thomas 41075 United States;X-APPLE-RADIUS=500;X-TITLE=85 N. Grand Ave:geo:-84.4668479,39.0786773
END:VEVENT
BEGIN:VEVENT
DTSTART;TZID=America/New_York:20261110T120000
DTEND;TZID=America/New_York:20261110T140000
DTSTAMP:20260423T015517
CREATED:20260206T215119Z
LAST-MODIFIED:20260206T215915Z
UID:10003913-1794312000-1794319200@www.stelizabeth.com
SUMMARY:Oncology Support Services: Services in Infusion: Art Therapy - Edgewood
DESCRIPTION:Art Therapy\nCreative expression to support relaxation and emotional well-being during infusion. \nVisit stelizabeth.com/integrative-oncology or call 859-301-4157 for more info.
URL:https://www.stelizabeth.com/event/oncology-support-services-art-therapy-edgewood/2026-11-10/
LOCATION:St. Elizabeth Edgewood Cancer Center\, 1 Medical Village Drive\, Edgewood\, KY\, 41017\, United States
CATEGORIES:Integrative Oncology
GEO:39.0129322;-84.5620884
X-APPLE-STRUCTURED-LOCATION;VALUE=URI;X-ADDRESS=St. Elizabeth Edgewood Cancer Center 1 Medical Village Drive Edgewood KY 41017 United States;X-APPLE-RADIUS=500;X-TITLE=1 Medical Village Drive:geo:-84.5620884,39.0129322
END:VEVENT
BEGIN:VEVENT
DTSTART;TZID=America/New_York:20261111T093000
DTEND;TZID=America/New_York:20261111T103000
DTSTAMP:20260423T015517
CREATED:20260206T225505Z
LAST-MODIFIED:20260206T225505Z
UID:10004186-1794389400-1794393000@www.stelizabeth.com
SUMMARY:Oncology Support Services: Spirituality Series
DESCRIPTION:Spirituality Series\nThis series invites you to explore the meaningful connection between spirituality and healing\, offering a space to find strength\, comfort\, and clarity. \nVisit stelizabeth.com/integrative-oncology or call 859-301-4157 for more info.
URL:https://www.stelizabeth.com/event/oncology-support-services-spirituality-series/2026-11-11/
LOCATION:St. Elizabeth Edgewood Cancer Center\, 1 Medical Village Drive\, Edgewood\, KY\, 41017\, United States
CATEGORIES:Integrative Oncology
GEO:39.0129322;-84.5620884
X-APPLE-STRUCTURED-LOCATION;VALUE=URI;X-ADDRESS=St. Elizabeth Edgewood Cancer Center 1 Medical Village Drive Edgewood KY 41017 United States;X-APPLE-RADIUS=500;X-TITLE=1 Medical Village Drive:geo:-84.5620884,39.0129322
END:VEVENT
END:VCALENDAR