BEGIN:VCALENDAR
VERSION:2.0
PRODID:-//St. Elizabeth Healthcare - ECPv6.15.20//NONSGML v1.0//EN
CALSCALE:GREGORIAN
METHOD:PUBLISH
X-WR-CALNAME:St. Elizabeth Healthcare
X-ORIGINAL-URL:https://www.stelizabeth.com
X-WR-CALDESC:Events for St. Elizabeth Healthcare
REFRESH-INTERVAL;VALUE=DURATION:PT1H
X-Robots-Tag:noindex
X-PUBLISHED-TTL:PT1H
BEGIN:VTIMEZONE
TZID:America/New_York
BEGIN:DAYLIGHT
TZOFFSETFROM:-0500
TZOFFSETTO:-0400
TZNAME:EDT
DTSTART:20250309T070000
END:DAYLIGHT
BEGIN:STANDARD
TZOFFSETFROM:-0400
TZOFFSETTO:-0500
TZNAME:EST
DTSTART:20251102T060000
END:STANDARD
BEGIN:DAYLIGHT
TZOFFSETFROM:-0500
TZOFFSETTO:-0400
TZNAME:EDT
DTSTART:20260308T070000
END:DAYLIGHT
BEGIN:STANDARD
TZOFFSETFROM:-0400
TZOFFSETTO:-0500
TZNAME:EST
DTSTART:20261101T060000
END:STANDARD
BEGIN:DAYLIGHT
TZOFFSETFROM:-0500
TZOFFSETTO:-0400
TZNAME:EDT
DTSTART:20270314T070000
END:DAYLIGHT
BEGIN:STANDARD
TZOFFSETFROM:-0400
TZOFFSETTO:-0500
TZNAME:EST
DTSTART:20271107T060000
END:STANDARD
END:VTIMEZONE
BEGIN:VEVENT
DTSTART;TZID=America/New_York:20260825T110000
DTEND;TZID=America/New_York:20260825T130000
DTSTAMP:20260419T165904
CREATED:20260206T222051Z
LAST-MODIFIED:20260206T222051Z
UID:10004129-1787655600-1787662800@www.stelizabeth.com
SUMMARY:Oncology Support Services: Services in Infusion: Peaceful Pause - Ft. Thomas
DESCRIPTION:Peaceful Pause\nBreathing exercises\, meditation\, and optional prayer to promote calm during infusion. \nVisit stelizabeth.com/integrative-oncology or call 859-301-4157 for more info.
URL:https://www.stelizabeth.com/event/oncology-support-services-services-in-infusion-peaceful-pause-ft-thomas-2/2026-08-25/
LOCATION:St. Elizabeth Healthcare – Ft. Thomas\, 85 N. Grand Ave\, Ft. Thomas\, 41075\, United States
CATEGORIES:Integrative Oncology
GEO:39.0786773;-84.4668479
X-APPLE-STRUCTURED-LOCATION;VALUE=URI;X-ADDRESS=St. Elizabeth Healthcare – Ft. Thomas 85 N. Grand Ave Ft. Thomas 41075 United States;X-APPLE-RADIUS=500;X-TITLE=85 N. Grand Ave:geo:-84.4668479,39.0786773
END:VEVENT
BEGIN:VEVENT
DTSTART;TZID=America/New_York:20260825T120000
DTEND;TZID=America/New_York:20260825T140000
DTSTAMP:20260419T165904
CREATED:20260206T215354Z
LAST-MODIFIED:20260206T215751Z
UID:10003932-1787659200-1787666400@www.stelizabeth.com
SUMMARY:Oncology Support Services: Services In Infusion: Art Therapy - Edgewood
DESCRIPTION:Art Therapy\nCreative expression to support relaxation and emotional well-being during infusion. \nVisit stelizabeth.com/integrative-oncology or call 859-301-4157 for more info.
URL:https://www.stelizabeth.com/event/oncology-support-services-art-therapy-edgewood-2/2026-08-25/
LOCATION:St. Elizabeth Edgewood Cancer Center\, 1 Medical Village Drive\, Edgewood\, KY\, 41017\, United States
CATEGORIES:Integrative Oncology
GEO:39.0129322;-84.5620884
X-APPLE-STRUCTURED-LOCATION;VALUE=URI;X-ADDRESS=St. Elizabeth Edgewood Cancer Center 1 Medical Village Drive Edgewood KY 41017 United States;X-APPLE-RADIUS=500;X-TITLE=1 Medical Village Drive:geo:-84.5620884,39.0129322
END:VEVENT
BEGIN:VEVENT
DTSTART;TZID=America/New_York:20260827T110000
DTEND;TZID=America/New_York:20260827T130000
DTSTAMP:20260419T165904
CREATED:20260206T213909Z
LAST-MODIFIED:20260206T213909Z
UID:10003868-1787828400-1787835600@www.stelizabeth.com
SUMMARY:Oncology Support Services: Treat Yourself Days - Dearborn County
DESCRIPTION:Treat Yourself Days\nTreat Yourself Days at our cancer care locations feature cooking demos and tastings\, crafts and activities (w/ CSC)\, pet therapy\, and movement sessions to help you relax and recharge. \nVisit stelizabeth.com/integrative-oncology or call 859-301-4157 for more info.
URL:https://www.stelizabeth.com/event/oncology-support-services-treat-yourself-days-dearborn-county/2026-08-27/
LOCATION:St. Elizabeth Healthcare – Dearborn\, 600 Wilson Creek Rd.\, Lawrenceburg\, IN\, 47025\, United States
CATEGORIES:Integrative Oncology
GEO:39.1109075;-84.8831751
X-APPLE-STRUCTURED-LOCATION;VALUE=URI;X-ADDRESS=St. Elizabeth Healthcare – Dearborn 600 Wilson Creek Rd. Lawrenceburg IN 47025 United States;X-APPLE-RADIUS=500;X-TITLE=600 Wilson Creek Rd.:geo:-84.8831751,39.1109075
END:VEVENT
BEGIN:VEVENT
DTSTART;TZID=America/New_York:20260829T090000
DTEND;TZID=America/New_York:20260829T230000
DTSTAMP:20260419T165904
CREATED:20251211T013930Z
LAST-MODIFIED:20260111T004619Z
UID:10002726-1787994000-1788044400@www.stelizabeth.com
SUMMARY:Spanish HeartSaver Classes - August 29\, 2026
DESCRIPTION:St Elizabeth Healthcare is an American Heart Association (AHA) Training Center dedicated to high-quality Cardiopulmonary Resuscitation (CPR) and Emergency Cardiac Care (ECC) instruction. \nSpanish HeartSaver CPR\, AED — 9:00 a.m. to 11:00 a.m. \n\nPartnered with Gateway College AHEC staff to provide Spanish CPR AED classes\n\nWant to learn more? Find more information about classes at our AHA Training Center. \nCost:\nVaries by Course \nReservations:\nPre-registration is required. Call (859) 655-1606 to reserve your spot.
URL:https://www.stelizabeth.com/event/spanish-heartsaver-classes-august-29-2026/
LOCATION:St. Elizabeth Training & Education Center\, 3861 Olympic Blvd.\, Erlanger\, KY\, 41018\, United States
CATEGORIES:Heart & Vascular
END:VEVENT
END:VCALENDAR