BEGIN:VCALENDAR
VERSION:2.0
PRODID:-//St. Elizabeth Healthcare - ECPv6.15.20//NONSGML v1.0//EN
CALSCALE:GREGORIAN
METHOD:PUBLISH
X-ORIGINAL-URL:https://www.stelizabeth.com
X-WR-CALDESC:Events for St. Elizabeth Healthcare
REFRESH-INTERVAL;VALUE=DURATION:PT1H
X-Robots-Tag:noindex
X-PUBLISHED-TTL:PT1H
BEGIN:VTIMEZONE
TZID:America/New_York
BEGIN:DAYLIGHT
TZOFFSETFROM:-0500
TZOFFSETTO:-0400
TZNAME:EDT
DTSTART:20250309T070000
END:DAYLIGHT
BEGIN:STANDARD
TZOFFSETFROM:-0400
TZOFFSETTO:-0500
TZNAME:EST
DTSTART:20251102T060000
END:STANDARD
BEGIN:DAYLIGHT
TZOFFSETFROM:-0500
TZOFFSETTO:-0400
TZNAME:EDT
DTSTART:20260308T070000
END:DAYLIGHT
BEGIN:STANDARD
TZOFFSETFROM:-0400
TZOFFSETTO:-0500
TZNAME:EST
DTSTART:20261101T060000
END:STANDARD
BEGIN:DAYLIGHT
TZOFFSETFROM:-0500
TZOFFSETTO:-0400
TZNAME:EDT
DTSTART:20270314T070000
END:DAYLIGHT
BEGIN:STANDARD
TZOFFSETFROM:-0400
TZOFFSETTO:-0500
TZNAME:EST
DTSTART:20271107T060000
END:STANDARD
END:VTIMEZONE
BEGIN:VEVENT
DTSTART;TZID=America/New_York:20260810T090000
DTEND;TZID=America/New_York:20260810T140000
DTSTAMP:20260421T151645
CREATED:20260420T181416Z
LAST-MODIFIED:20260420T181416Z
UID:10004390-1786352400-1786370400@www.stelizabeth.com
SUMMARY:CardioVascular Mobile Health Unit — Union\, KY
DESCRIPTION:The CardioVascular Mobile Health Unit (CVMHU) provides cardiovascular screenings at locations throughout the community. Screenings available are: \n\nPeripheral Artery Disease (PAD)\nStroke/Carotid Artery\nAbdominal Aortic Aneurysm (AAA)\nCardiac Age Heart Risk Assessment\n\nLearn more about screenings offered on the CVMHU. \nCost\nScreenings are $25 each\, all four for $100. \nAsk for your BONUS atrial fibrillation screening at no cost when you schedule. \nReservations\nReservations are required. Call (859) 301-9355 (WELL) to schedule an appointment.
URL:https://www.stelizabeth.com/event/cardiovascular-mobile-health-unit-union-ky-13/
LOCATION:St. Elizabeth Physicians – Richwood\, 605 Man O'War Blvd\, Union\, KY\, 41091\, United States
CATEGORIES:Heart & Vascular
GEO:38.9129583;-84.643805
X-APPLE-STRUCTURED-LOCATION;VALUE=URI;X-ADDRESS=St. Elizabeth Physicians – Richwood 605 Man O'War Blvd Union KY 41091 United States;X-APPLE-RADIUS=500;X-TITLE=605 Man O'War Blvd:geo:-84.643805,38.9129583
END:VEVENT
BEGIN:VEVENT
DTSTART;TZID=America/New_York:20260811T090000
DTEND;TZID=America/New_York:20260811T140000
DTSTAMP:20260421T151645
CREATED:20260420T181431Z
LAST-MODIFIED:20260420T181431Z
UID:10004391-1786438800-1786456800@www.stelizabeth.com
SUMMARY:CardioVascular Mobile Health Unit — Crestview Hill\, KY
DESCRIPTION:The CardioVascular Mobile Health Unit (CVMHU) provides cardiovascular screenings at locations throughout the community. Screenings available are: \n\nPeripheral Artery Disease (PAD)\nStroke/Carotid Artery\nAbdominal Aortic Aneurysm (AAA)\nCardiac Age Heart Risk Assessment\n\nLearn more about screenings offered on the CVMHU. \nCost\nScreenings are $25 each\, all four for $100. \nAsk for your BONUS atrial fibrillation screening at no cost when you schedule. \nReservations\nReservations are required. Call (859) 301-9355 (WELL) to schedule an appointment.
URL:https://www.stelizabeth.com/event/cardiovascular-mobile-health-unit-crestview-hill-ky-7/
LOCATION:Crestview Hills Town Center\, 2791 Town Center Boulevard\, Crestview Hills\, KY\, 41017\, United States
CATEGORIES:Heart & Vascular
GEO:39.0240013;-84.5794827
X-APPLE-STRUCTURED-LOCATION;VALUE=URI;X-ADDRESS=Crestview Hills Town Center 2791 Town Center Boulevard Crestview Hills KY 41017 United States;X-APPLE-RADIUS=500;X-TITLE=2791 Town Center Boulevard:geo:-84.5794827,39.0240013
END:VEVENT
BEGIN:VEVENT
DTSTART;TZID=America/New_York:20260811T110000
DTEND;TZID=America/New_York:20260811T130000
DTSTAMP:20260421T151645
CREATED:20260206T221918Z
LAST-MODIFIED:20260206T221918Z
UID:10004107-1786446000-1786453200@www.stelizabeth.com
SUMMARY:Oncology Support Services: Services in Infusion: Peaceful Pause - Ft. Thomas
DESCRIPTION:Peaceful Pause\nBreathing exercises\, meditation\, and optional prayer to promote calm during infusion. \nVisit stelizabeth.com/integrative-oncology or call 859-301-4157 for more info.
URL:https://www.stelizabeth.com/event/oncology-support-services-services-in-infusion-peaceful-pause-ft-thomas/2026-08-11/
LOCATION:St. Elizabeth Healthcare – Ft. Thomas\, 85 N. Grand Ave\, Ft. Thomas\, 41075\, United States
CATEGORIES:Integrative Oncology
GEO:39.0786773;-84.4668479
X-APPLE-STRUCTURED-LOCATION;VALUE=URI;X-ADDRESS=St. Elizabeth Healthcare – Ft. Thomas 85 N. Grand Ave Ft. Thomas 41075 United States;X-APPLE-RADIUS=500;X-TITLE=85 N. Grand Ave:geo:-84.4668479,39.0786773
END:VEVENT
BEGIN:VEVENT
DTSTART;TZID=America/New_York:20260811T120000
DTEND;TZID=America/New_York:20260811T140000
DTSTAMP:20260421T151645
CREATED:20260206T215119Z
LAST-MODIFIED:20260206T215915Z
UID:10003910-1786449600-1786456800@www.stelizabeth.com
SUMMARY:Oncology Support Services: Services in Infusion: Art Therapy - Edgewood
DESCRIPTION:Art Therapy\nCreative expression to support relaxation and emotional well-being during infusion. \nVisit stelizabeth.com/integrative-oncology or call 859-301-4157 for more info.
URL:https://www.stelizabeth.com/event/oncology-support-services-art-therapy-edgewood/2026-08-11/
LOCATION:St. Elizabeth Edgewood Cancer Center\, 1 Medical Village Drive\, Edgewood\, KY\, 41017\, United States
CATEGORIES:Integrative Oncology
GEO:39.0129322;-84.5620884
X-APPLE-STRUCTURED-LOCATION;VALUE=URI;X-ADDRESS=St. Elizabeth Edgewood Cancer Center 1 Medical Village Drive Edgewood KY 41017 United States;X-APPLE-RADIUS=500;X-TITLE=1 Medical Village Drive:geo:-84.5620884,39.0129322
END:VEVENT
BEGIN:VEVENT
DTSTART;TZID=America/New_York:20260812T090000
DTEND;TZID=America/New_York:20260812T140000
DTSTAMP:20260421T151645
CREATED:20260420T181508Z
LAST-MODIFIED:20260420T181508Z
UID:10004392-1786525200-1786543200@www.stelizabeth.com
SUMMARY:CardioVascular Mobile Health Unit — Burlington\, KY
DESCRIPTION:The CardioVascular Mobile Health Unit (CVMHU) provides cardiovascular screenings at locations throughout the community. Screenings available are: \n\nPeripheral Artery Disease (PAD)\nStroke/Carotid Artery\nAbdominal Aortic Aneurysm (AAA)\nCardiac Age Heart Risk Assessment\n\nLearn more about screenings offered on the CVMHU. \nCost\nScreenings are $25 each\, all four for $100. \nAsk for your BONUS atrial fibrillation screening at no cost when you schedule. \nReservations\nReservations are required. Call (859) 301-9355 (WELL) to schedule an appointment.
URL:https://www.stelizabeth.com/event/cardiovascular-mobile-health-unit-burlington-ky-6/
LOCATION:RC Durr YMCA\, 5874 Veterans Way\, Burlington\, KY\, 41005\, United States
CATEGORIES:Heart & Vascular
GEO:39.0234646;-84.7079787
X-APPLE-STRUCTURED-LOCATION;VALUE=URI;X-ADDRESS=RC Durr YMCA 5874 Veterans Way Burlington KY 41005 United States;X-APPLE-RADIUS=500;X-TITLE=5874 Veterans Way:geo:-84.7079787,39.0234646
END:VEVENT
BEGIN:VEVENT
DTSTART;TZID=America/New_York:20260813T090000
DTEND;TZID=America/New_York:20260813T140000
DTSTAMP:20260421T151645
CREATED:20260420T181524Z
LAST-MODIFIED:20260420T181524Z
UID:10004393-1786611600-1786629600@www.stelizabeth.com
SUMMARY:CardioVascular Mobile Health Unit — Newport\, KY
DESCRIPTION:The CardioVascular Mobile Health Unit (CVMHU) provides cardiovascular screenings at locations throughout the community. Screenings available are: \n\nPeripheral Artery Disease (PAD)\nStroke/Carotid Artery\nAbdominal Aortic Aneurysm (AAA)\nCardiac Age Heart Risk Assessment\n\nLearn more about screenings offered on the CVMHU. \nCost\nScreenings are $25 each\, all four for $100. \nAsk for your BONUS atrial fibrillation screening at no cost when you schedule. \nReservations\nReservations are required. Call (859) 301-9355 (WELL) to schedule an appointment.
URL:https://www.stelizabeth.com/event/cardiovascular-mobile-health-unit-newport-ky-5/
LOCATION:Kroger Marketplace Newport\, 130 Pavilion Parkway\, Newport\, KY\, 41071\, United States
CATEGORIES:Heart & Vascular
GEO:39.0901702;-84.4778335
X-APPLE-STRUCTURED-LOCATION;VALUE=URI;X-ADDRESS=Kroger Marketplace Newport 130 Pavilion Parkway Newport KY 41071 United States;X-APPLE-RADIUS=500;X-TITLE=130 Pavilion Parkway:geo:-84.4778335,39.0901702
END:VEVENT
END:VCALENDAR