BEGIN:VCALENDAR
VERSION:2.0
PRODID:-//St. Elizabeth Healthcare - ECPv6.15.20//NONSGML v1.0//EN
CALSCALE:GREGORIAN
METHOD:PUBLISH
X-ORIGINAL-URL:https://www.stelizabeth.com
X-WR-CALDESC:Events for St. Elizabeth Healthcare
REFRESH-INTERVAL;VALUE=DURATION:PT1H
X-Robots-Tag:noindex
X-PUBLISHED-TTL:PT1H
BEGIN:VTIMEZONE
TZID:America/New_York
BEGIN:DAYLIGHT
TZOFFSETFROM:-0500
TZOFFSETTO:-0400
TZNAME:EDT
DTSTART:20250309T070000
END:DAYLIGHT
BEGIN:STANDARD
TZOFFSETFROM:-0400
TZOFFSETTO:-0500
TZNAME:EST
DTSTART:20251102T060000
END:STANDARD
BEGIN:DAYLIGHT
TZOFFSETFROM:-0500
TZOFFSETTO:-0400
TZNAME:EDT
DTSTART:20260308T070000
END:DAYLIGHT
BEGIN:STANDARD
TZOFFSETFROM:-0400
TZOFFSETTO:-0500
TZNAME:EST
DTSTART:20261101T060000
END:STANDARD
BEGIN:DAYLIGHT
TZOFFSETFROM:-0500
TZOFFSETTO:-0400
TZNAME:EDT
DTSTART:20270314T070000
END:DAYLIGHT
BEGIN:STANDARD
TZOFFSETFROM:-0400
TZOFFSETTO:-0500
TZNAME:EST
DTSTART:20271107T060000
END:STANDARD
END:VTIMEZONE
BEGIN:VEVENT
DTSTART;TZID=America/New_York:20260608T090000
DTEND;TZID=America/New_York:20260608T140000
DTSTAMP:20260419T164623
CREATED:20260401T171701Z
LAST-MODIFIED:20260401T171701Z
UID:10004305-1780909200-1780927200@www.stelizabeth.com
SUMMARY:CardioVascular Mobile Health Unit — Cold Spring\, KY
DESCRIPTION:The CardioVascular Mobile Health Unit (CVMHU) provides cardiovascular screenings at locations throughout the community. Screenings available are: \n\nPeripheral Artery Disease (PAD)\nStroke/Carotid Artery\nAbdominal Aortic Aneurysm (AAA)\nCardiac Age Heart Risk Assessment\n\nLearn more about screenings offered on the CVMHU. \nCost\nScreenings are $25 each\, all four for $100. \nAsk for your BONUS atrial fibrillation screening at no cost when you schedule. \nReservations\nReservations are required. Call (859) 301-9355 (WELL) to schedule an appointment.
URL:https://www.stelizabeth.com/event/cardiovascular-mobile-health-unit-cold-spring-ky-11/
LOCATION:Kroger Cold Spring – Crossroads\, 375 Crossroads Boulevard\, Cold Spring\, KY\, 41076\, United States
CATEGORIES:Heart & Vascular
END:VEVENT
BEGIN:VEVENT
DTSTART;TZID=America/New_York:20260609T090000
DTEND;TZID=America/New_York:20260609T140000
DTSTAMP:20260419T164623
CREATED:20260401T171937Z
LAST-MODIFIED:20260401T171937Z
UID:10004306-1780995600-1781013600@www.stelizabeth.com
SUMMARY:CardioVascular Mobile Health Unit — Crestview Hill\, KY
DESCRIPTION:The CardioVascular Mobile Health Unit (CVMHU) provides cardiovascular screenings at locations throughout the community. Screenings available are: \n\nPeripheral Artery Disease (PAD)\nStroke/Carotid Artery\nAbdominal Aortic Aneurysm (AAA)\nCardiac Age Heart Risk Assessment\n\nLearn more about screenings offered on the CVMHU. \nCost\nScreenings are $25 each\, all four for $100. \nAsk for your BONUS atrial fibrillation screening at no cost when you schedule. \nReservations\nReservations are required. Call (859) 301-9355 (WELL) to schedule an appointment.
URL:https://www.stelizabeth.com/event/cardiovascular-mobile-health-unit-crestview-hill-ky-9/
LOCATION:Crestview Hills Town Center\, 2791 Town Center Boulevard\, Crestview Hills\, KY\, 41017\, United States
CATEGORIES:Heart & Vascular
GEO:39.0240013;-84.5794827
X-APPLE-STRUCTURED-LOCATION;VALUE=URI;X-ADDRESS=Crestview Hills Town Center 2791 Town Center Boulevard Crestview Hills KY 41017 United States;X-APPLE-RADIUS=500;X-TITLE=2791 Town Center Boulevard:geo:-84.5794827,39.0240013
END:VEVENT
BEGIN:VEVENT
DTSTART;TZID=America/New_York:20260611T090000
DTEND;TZID=America/New_York:20260611T140000
DTSTAMP:20260419T164623
CREATED:20260401T172546Z
LAST-MODIFIED:20260401T172546Z
UID:10004308-1781168400-1781186400@www.stelizabeth.com
SUMMARY:CardioVascular Mobile Health Unit — Florence\, KY
DESCRIPTION:The CardioVascular Mobile Health Unit (CVMHU) provides cardiovascular screenings at locations throughout the community. Screenings available are: \n\nPeripheral Artery Disease (PAD)\nStroke/Carotid Artery\nAbdominal Aortic Aneurysm (AAA)\nCardiac Age Heart Risk Assessment\n\nLearn more about screenings offered on the CVMHU. \nCost\nScreenings are $25 each\, all four for $100. \nAsk for your BONUS atrial fibrillation screening at no cost when you schedule. \nReservations\nReservations are required. Call (859) 301-9355 (WELL) to schedule an appointment.
URL:https://www.stelizabeth.com/event/cardiovascular-mobile-health-unit-florence-ky-50/
LOCATION:Spring Arbor of Florence\, 4009 Seligman Dr.\, Florence\, KY\, 41042
CATEGORIES:Heart & Vascular
END:VEVENT
END:VCALENDAR