BEGIN:VCALENDAR
VERSION:2.0
PRODID:-//St. Elizabeth Healthcare - ECPv6.15.20//NONSGML v1.0//EN
CALSCALE:GREGORIAN
METHOD:PUBLISH
X-ORIGINAL-URL:https://www.stelizabeth.com
X-WR-CALDESC:Events for St. Elizabeth Healthcare
REFRESH-INTERVAL;VALUE=DURATION:PT1H
X-Robots-Tag:noindex
X-PUBLISHED-TTL:PT1H
BEGIN:VTIMEZONE
TZID:America/New_York
BEGIN:DAYLIGHT
TZOFFSETFROM:-0500
TZOFFSETTO:-0400
TZNAME:EDT
DTSTART:20250309T070000
END:DAYLIGHT
BEGIN:STANDARD
TZOFFSETFROM:-0400
TZOFFSETTO:-0500
TZNAME:EST
DTSTART:20251102T060000
END:STANDARD
BEGIN:DAYLIGHT
TZOFFSETFROM:-0500
TZOFFSETTO:-0400
TZNAME:EDT
DTSTART:20260308T070000
END:DAYLIGHT
BEGIN:STANDARD
TZOFFSETFROM:-0400
TZOFFSETTO:-0500
TZNAME:EST
DTSTART:20261101T060000
END:STANDARD
BEGIN:DAYLIGHT
TZOFFSETFROM:-0500
TZOFFSETTO:-0400
TZNAME:EDT
DTSTART:20270314T070000
END:DAYLIGHT
BEGIN:STANDARD
TZOFFSETFROM:-0400
TZOFFSETTO:-0500
TZNAME:EST
DTSTART:20271107T060000
END:STANDARD
END:VTIMEZONE
BEGIN:VEVENT
DTSTART;TZID=America/New_York:20260518T090000
DTEND;TZID=America/New_York:20260518T163000
DTSTAMP:20260422T052759
CREATED:20260420T180224Z
LAST-MODIFIED:20260420T180224Z
UID:10004377-1779094800-1779121800@www.stelizabeth.com
SUMMARY:CardioVascular Mobile Health Unit — Butler\, KY
DESCRIPTION:The CardioVascular Mobile Health Unit (CVMHU) provides cardiovascular screenings at locations throughout the community. Screenings available are: \n\nPeripheral Artery Disease (PAD)\nStroke/Carotid Artery\nAbdominal Aortic Aneurysm (AAA)\nCardiac Age Heart Risk Assessment\n\nLearn more about screenings offered on the CVMHU. \nCost\nScreenings are $25 each\, all four for $100. \nAsk for your BONUS atrial fibrillation screening at no cost when you schedule. \nReservations\nReservations are required. Call (859) 301-9355 (WELL) to schedule an appointment.
URL:https://www.stelizabeth.com/event/cardiovascular-mobile-health-unit-butler-ky/
LOCATION:St. Elizabeth Physicians – Butler\, 79 Country Club Dr.\, Butler\, KY\, 41006\, United States
CATEGORIES:Heart & Vascular
GEO:38.758457;-84.3535644
X-APPLE-STRUCTURED-LOCATION;VALUE=URI;X-ADDRESS=St. Elizabeth Physicians – Butler 79 Country Club Dr. Butler KY 41006 United States;X-APPLE-RADIUS=500;X-TITLE=79 Country Club Dr.:geo:-84.3535644,38.758457
END:VEVENT
BEGIN:VEVENT
DTSTART;TZID=America/New_York:20260519T130000
DTEND;TZID=America/New_York:20260519T160000
DTSTAMP:20260422T052759
CREATED:20260420T180330Z
LAST-MODIFIED:20260420T180330Z
UID:10004378-1779195600-1779206400@www.stelizabeth.com
SUMMARY:CardioVascular Mobile Health Unit — Hebron\, KY
DESCRIPTION:The CardioVascular Mobile Health Unit (CVMHU) provides cardiovascular screenings at locations throughout the community. Screenings available are: \n\nPeripheral Artery Disease (PAD)\nStroke/Carotid Artery\nAbdominal Aortic Aneurysm (AAA)\nCardiac Age Heart Risk Assessment\n\nLearn more about screenings offered on the CVMHU. \nCost\nScreenings are $25 each\, all four for $100. \nAsk for your BONUS atrial fibrillation screening at no cost when you schedule. \nReservations\nReservations are required. Call (859) 301-9355 (WELL) to schedule an appointment.
URL:https://www.stelizabeth.com/event/cardiovascular-mobile-health-unit-hebron-ky-2/
LOCATION:St. Elizabeth Physicians – Hebron\, 2200 Conner Road\, Hebron\, KY\, 41048\, United States
CATEGORIES:Heart & Vascular
GEO:39.057381;-84.7034314
X-APPLE-STRUCTURED-LOCATION;VALUE=URI;X-ADDRESS=St. Elizabeth Physicians – Hebron 2200 Conner Road Hebron KY 41048 United States;X-APPLE-RADIUS=500;X-TITLE=2200 Conner Road:geo:-84.7034314,39.057381
END:VEVENT
BEGIN:VEVENT
DTSTART;TZID=America/New_York:20260521T090000
DTEND;TZID=America/New_York:20260521T160000
DTSTAMP:20260422T052759
CREATED:20260420T180352Z
LAST-MODIFIED:20260420T180352Z
UID:10004379-1779354000-1779379200@www.stelizabeth.com
SUMMARY:CardioVascular Mobile Health Unit — Hebron\, KY
DESCRIPTION:The CardioVascular Mobile Health Unit (CVMHU) provides cardiovascular screenings at locations throughout the community. Screenings available are: \n\nPeripheral Artery Disease (PAD)\nStroke/Carotid Artery\nAbdominal Aortic Aneurysm (AAA)\nCardiac Age Heart Risk Assessment\n\nLearn more about screenings offered on the CVMHU. \nCost\nScreenings are $25 each\, all four for $100. \nAsk for your BONUS atrial fibrillation screening at no cost when you schedule. \nReservations\nReservations are required. Call (859) 301-9355 (WELL) to schedule an appointment.
URL:https://www.stelizabeth.com/event/cardiovascular-mobile-health-unit-hebron-ky-6/
LOCATION:St. Elizabeth Physicians – Hebron Connor Road\, 2200 Connor Rd.\, Hebron\, KY\, 41048\, United States
CATEGORIES:Heart & Vascular
GEO:39.057388;-84.703163
X-APPLE-STRUCTURED-LOCATION;VALUE=URI;X-ADDRESS=St. Elizabeth Physicians – Hebron Connor Road 2200 Connor Rd. Hebron KY 41048 United States;X-APPLE-RADIUS=500;X-TITLE=2200 Connor Rd.:geo:-84.703163,39.057388
END:VEVENT
BEGIN:VEVENT
DTSTART;TZID=America/New_York:20260521T133000
DTEND;TZID=America/New_York:20260521T160000
DTSTAMP:20260422T052759
CREATED:20260420T180450Z
LAST-MODIFIED:20260420T180450Z
UID:10004380-1779370200-1779379200@www.stelizabeth.com
SUMMARY:CardioVascular Mobile Health Unit — Aurora\, IN
DESCRIPTION:The CardioVascular Mobile Health Unit (CVMHU) provides cardiovascular screenings at locations throughout the community. Screenings available are: \n\nPeripheral Artery Disease (PAD)\nStroke/Carotid Artery\nAbdominal Aortic Aneurysm (AAA)\nCardiac Age Heart Risk Assessment\n\nLearn more about screenings offered on the CVMHU. \nCost\nScreenings are $25 each\, all four for $100. \nAsk for your BONUS atrial fibrillation screening at no cost when you schedule. \nReservations\nReservations are required. Call (859) 301-9355 (WELL) to schedule an appointment.
URL:https://www.stelizabeth.com/event/cardiovascular-mobile-health-unit-aurora-in-3/
LOCATION:St. Elizabeth Physicians – Bellevue\, 119 Fairfield Avenue\, Bellevue\, KY\, 41073\, United States
CATEGORIES:Heart & Vascular
GEO:39.1035953;-84.4872949
X-APPLE-STRUCTURED-LOCATION;VALUE=URI;X-ADDRESS=St. Elizabeth Physicians – Bellevue 119 Fairfield Avenue Bellevue KY 41073 United States;X-APPLE-RADIUS=500;X-TITLE=119 Fairfield Avenue:geo:-84.4872949,39.1035953
END:VEVENT
BEGIN:VEVENT
DTSTART;TZID=America/New_York:20260522T073000
DTEND;TZID=America/New_York:20260522T113000
DTSTAMP:20260422T052759
CREATED:20260420T180511Z
LAST-MODIFIED:20260420T180511Z
UID:10004381-1779435000-1779449400@www.stelizabeth.com
SUMMARY:CardioVascular Mobile Health Unit — Highland Hights\, KY
DESCRIPTION:The CardioVascular Mobile Health Unit (CVMHU) provides cardiovascular screenings at locations throughout the community. Screenings available are: \n\nPeripheral Artery Disease (PAD)\nStroke/Carotid Artery\nAbdominal Aortic Aneurysm (AAA)\nCardiac Age Heart Risk Assessment\n\nLearn more about screenings offered on the CVMHU. \nCost\nScreenings are $25 each\, all four for $100. \nAsk for your BONUS atrial fibrillation screening at no cost when you schedule. \nReservations\nReservations are required. Call (859) 301-9355 (WELL) to schedule an appointment.
URL:https://www.stelizabeth.com/event/cardiovascular-mobile-health-unit-highland-hights-ky/
LOCATION:St. Elizabeth Physicians – Highland Heights\, 2626 Alexandria Pike\, Highland Heights\, KY\, 41076\, United States
CATEGORIES:Heart & Vascular
GEO:39.0353481;-84.4549343
X-APPLE-STRUCTURED-LOCATION;VALUE=URI;X-ADDRESS=St. Elizabeth Physicians – Highland Heights 2626 Alexandria Pike Highland Heights KY 41076 United States;X-APPLE-RADIUS=500;X-TITLE=2626 Alexandria Pike:geo:-84.4549343,39.0353481
END:VEVENT
END:VCALENDAR