BEGIN:VCALENDAR
VERSION:2.0
PRODID:-//St. Elizabeth Healthcare - ECPv6.15.20//NONSGML v1.0//EN
CALSCALE:GREGORIAN
METHOD:PUBLISH
X-WR-CALNAME:St. Elizabeth Healthcare
X-ORIGINAL-URL:https://www.stelizabeth.com
X-WR-CALDESC:Events for St. Elizabeth Healthcare
REFRESH-INTERVAL;VALUE=DURATION:PT1H
X-Robots-Tag:noindex
X-PUBLISHED-TTL:PT1H
BEGIN:VTIMEZONE
TZID:America/New_York
BEGIN:DAYLIGHT
TZOFFSETFROM:-0500
TZOFFSETTO:-0400
TZNAME:EDT
DTSTART:20240310T070000
END:DAYLIGHT
BEGIN:STANDARD
TZOFFSETFROM:-0400
TZOFFSETTO:-0500
TZNAME:EST
DTSTART:20241103T060000
END:STANDARD
BEGIN:DAYLIGHT
TZOFFSETFROM:-0500
TZOFFSETTO:-0400
TZNAME:EDT
DTSTART:20250309T070000
END:DAYLIGHT
BEGIN:STANDARD
TZOFFSETFROM:-0400
TZOFFSETTO:-0500
TZNAME:EST
DTSTART:20251102T060000
END:STANDARD
BEGIN:DAYLIGHT
TZOFFSETFROM:-0500
TZOFFSETTO:-0400
TZNAME:EDT
DTSTART:20260308T070000
END:DAYLIGHT
BEGIN:STANDARD
TZOFFSETFROM:-0400
TZOFFSETTO:-0500
TZNAME:EST
DTSTART:20261101T060000
END:STANDARD
END:VTIMEZONE
BEGIN:VEVENT
DTSTART;TZID=America/New_York:20251208T090000
DTEND;TZID=America/New_York:20251208T140000
DTSTAMP:20260421T193134
CREATED:20251015T223145Z
LAST-MODIFIED:20260111T012755Z
UID:10002897-1765184400-1765202400@www.stelizabeth.com
SUMMARY:CardioVascular Mobile Health Unit — Burlington\, KY
DESCRIPTION:The CardioVascular Mobile Health Unit (CVMHU) provides cardiovascular screenings at locations throughout the community. Screenings available are: \n\nPeripheral Artery Disease (PAD)\nStroke/Carotid Artery\nAbdominal Aortic Aneurysm (AAA)\nCardiac Age Heart Risk Assessment\n\nLearn more about screenings offered on the CVMHU. \nCost\nScreenings are $25 each\, all four for $100. \nAsk for your BONUS atrial fibrillation screening at no cost when you schedule. \nReservations\nReservations are required. Call (859) 301-9355 (WELL) to schedule an appointment.
URL:https://www.stelizabeth.com/event/cardiovascular-mobile-health-unit-burlington-ky-16/
LOCATION:RC Durr YMCA\, 5874 Veterans Way\, Burlington\, KY\, 41005\, United States
CATEGORIES:Heart & Vascular
GEO:39.0234646;-84.7079787
X-APPLE-STRUCTURED-LOCATION;VALUE=URI;X-ADDRESS=RC Durr YMCA 5874 Veterans Way Burlington KY 41005 United States;X-APPLE-RADIUS=500;X-TITLE=5874 Veterans Way:geo:-84.7079787,39.0234646
END:VEVENT
BEGIN:VEVENT
DTSTART;TZID=America/New_York:20251209T090000
DTEND;TZID=America/New_York:20251209T140000
DTSTAMP:20260421T193134
CREATED:20251015T223304Z
LAST-MODIFIED:20260111T012754Z
UID:10002896-1765270800-1765288800@www.stelizabeth.com
SUMMARY:CardioVascular Mobile Health Unit — Crestview Hill\, KY
DESCRIPTION:The CardioVascular Mobile Health Unit (CVMHU) provides cardiovascular screenings at locations throughout the community. Screenings available are: \n\nPeripheral Artery Disease (PAD)\nStroke/Carotid Artery\nAbdominal Aortic Aneurysm (AAA)\nCardiac Age Heart Risk Assessment\n\nLearn more about screenings offered on the CVMHU. \nCost\nScreenings are $25 each\, all four for $100. \nAsk for your BONUS atrial fibrillation screening at no cost when you schedule. \nReservations\nReservations are required. Call (859) 301-9355 (WELL) to schedule an appointment.
URL:https://www.stelizabeth.com/event/cardiovascular-mobile-health-unit-crestview-hill-ky-4/
LOCATION:Crestview Hills Town Center\, 2791 Town Center Boulevard\, Crestview Hills\, KY\, 41017\, United States
CATEGORIES:Heart & Vascular
GEO:39.0240013;-84.5794827
X-APPLE-STRUCTURED-LOCATION;VALUE=URI;X-ADDRESS=Crestview Hills Town Center 2791 Town Center Boulevard Crestview Hills KY 41017 United States;X-APPLE-RADIUS=500;X-TITLE=2791 Town Center Boulevard:geo:-84.5794827,39.0240013
END:VEVENT
BEGIN:VEVENT
DTSTART;TZID=America/New_York:20251210T090000
DTEND;TZID=America/New_York:20251210T140000
DTSTAMP:20260421T193134
CREATED:20251015T223437Z
LAST-MODIFIED:20260111T012747Z
UID:10002893-1765357200-1765375200@www.stelizabeth.com
SUMMARY:CardioVascular Mobile Health Unit — Williamstown\, KY
DESCRIPTION:The CardioVascular Mobile Health Unit (CVMHU) provides cardiovascular screenings at locations throughout the community. Screenings available are: \n\nPeripheral Artery Disease (PAD)\nStroke/Carotid Artery\nAbdominal Aortic Aneurysm (AAA)\nCardiac Age Heart Risk Assessment\n\nLearn more about screenings offered on the CVMHU. \nCost\nScreenings are $25 each\, all four for $100. \nAsk for your BONUS atrial fibrillation screening at no cost when you schedule. \nReservations\nReservations are required. Call (859) 301-9355 (WELL) to schedule an appointment.
URL:https://www.stelizabeth.com/event/cardiovascular-mobile-health-unit-williamstown-ky-13/
LOCATION:St. Elizabeth Grant County\, 238 Barnes Road\, Williamstown\, KY\, 41097\, United States
CATEGORIES:Heart & Vascular
GEO:38.6474516;-84.5776838
X-APPLE-STRUCTURED-LOCATION;VALUE=URI;X-ADDRESS=St. Elizabeth Grant County 238 Barnes Road Williamstown KY 41097 United States;X-APPLE-RADIUS=500;X-TITLE=238 Barnes Road:geo:-84.5776838,38.6474516
END:VEVENT
BEGIN:VEVENT
DTSTART;TZID=America/New_York:20251211T090000
DTEND;TZID=America/New_York:20251211T140000
DTSTAMP:20260421T193134
CREATED:20251015T223700Z
LAST-MODIFIED:20260111T012739Z
UID:10002890-1765443600-1765461600@www.stelizabeth.com
SUMMARY:CardioVascular Mobile Health Unit — Greendale\, IN
DESCRIPTION:The CardioVascular Mobile Health Unit (CVMHU) provides cardiovascular screenings at locations throughout the community. Screenings available are: \n\nPeripheral Artery Disease (PAD)\nStroke/Carotid Artery\nAbdominal Aortic Aneurysm (AAA)\nCardiac Age Heart Risk Assessment\n\nLearn more about screenings offered on the CVMHU. \nCost\nScreenings are $25 each\, all four for $100. \nAsk for your BONUS atrial fibrillation screening at no cost when you schedule. \nReservations\nReservations are required. Call (859) 301-9355 (WELL) to schedule an appointment.
URL:https://www.stelizabeth.com/event/cardiovascular-mobile-health-unit-greendale-in-16/
LOCATION:St. Elizabeth Physicians Greendale\, 1640 Flossie Drive\, Greendale\, IN\, 47025\, United States
CATEGORIES:Heart & Vascular
GEO:39.1256698;-84.843729
X-APPLE-STRUCTURED-LOCATION;VALUE=URI;X-ADDRESS=St. Elizabeth Physicians Greendale 1640 Flossie Drive Greendale IN 47025 United States;X-APPLE-RADIUS=500;X-TITLE=1640 Flossie Drive:geo:-84.843729,39.1256698
END:VEVENT
END:VCALENDAR