BEGIN:VCALENDAR
VERSION:2.0
PRODID:-//St. Elizabeth Healthcare - ECPv6.15.20//NONSGML v1.0//EN
CALSCALE:GREGORIAN
METHOD:PUBLISH
X-ORIGINAL-URL:https://www.stelizabeth.com
X-WR-CALDESC:Events for St. Elizabeth Healthcare
REFRESH-INTERVAL;VALUE=DURATION:PT1H
X-Robots-Tag:noindex
X-PUBLISHED-TTL:PT1H
BEGIN:VTIMEZONE
TZID:America/New_York
BEGIN:DAYLIGHT
TZOFFSETFROM:-0500
TZOFFSETTO:-0400
TZNAME:EDT
DTSTART:20240310T070000
END:DAYLIGHT
BEGIN:STANDARD
TZOFFSETFROM:-0400
TZOFFSETTO:-0500
TZNAME:EST
DTSTART:20241103T060000
END:STANDARD
BEGIN:DAYLIGHT
TZOFFSETFROM:-0500
TZOFFSETTO:-0400
TZNAME:EDT
DTSTART:20250309T070000
END:DAYLIGHT
BEGIN:STANDARD
TZOFFSETFROM:-0400
TZOFFSETTO:-0500
TZNAME:EST
DTSTART:20251102T060000
END:STANDARD
BEGIN:DAYLIGHT
TZOFFSETFROM:-0500
TZOFFSETTO:-0400
TZNAME:EDT
DTSTART:20260308T070000
END:DAYLIGHT
BEGIN:STANDARD
TZOFFSETFROM:-0400
TZOFFSETTO:-0500
TZNAME:EST
DTSTART:20261101T060000
END:STANDARD
END:VTIMEZONE
BEGIN:VEVENT
DTSTART;TZID=America/New_York:20251124T090000
DTEND;TZID=America/New_York:20251124T140000
DTSTAMP:20260421T072520
CREATED:20250924T221339Z
LAST-MODIFIED:20260111T012953Z
UID:10002917-1763974800-1763992800@www.stelizabeth.com
SUMMARY:CardioVascular Mobile Health Unit — Crescent Springs\, KY
DESCRIPTION:The CardioVascular Mobile Health Unit (CVMHU) provides cardiovascular screenings at locations throughout the community. Screenings available are: \n\nPeripheral Artery Disease (PAD)\nStroke/Carotid Artery\nAbdominal Aortic Aneurysm (AAA)\nCardiac Age Heart Risk Assessment\n\nLearn more about screenings offered on the CVMHU. \nCost\nScreenings are $25 each\, all four for $100. \nAsk for your BONUS atrial fibrillation screening at no cost when you schedule. \nReservations\nReservations are required. Call (859) 301-9355 (WELL) to schedule an appointment.
URL:https://www.stelizabeth.com/event/cardiovascular-mobile-health-unit-crescent-springs-ky-11/
LOCATION:Remke Markets – Buttermilk Pike\, 560 Clock Tower Way\, Crescent Springs\, KY\, 41017\, United States
CATEGORIES:Heart & Vascular
GEO:39.0522864;-84.5732153
X-APPLE-STRUCTURED-LOCATION;VALUE=URI;X-ADDRESS=Remke Markets – Buttermilk Pike 560 Clock Tower Way Crescent Springs KY 41017 United States;X-APPLE-RADIUS=500;X-TITLE=560 Clock Tower Way:geo:-84.5732153,39.0522864
END:VEVENT
BEGIN:VEVENT
DTSTART;TZID=America/New_York:20251125T090000
DTEND;TZID=America/New_York:20251125T140000
DTSTAMP:20260421T072520
CREATED:20250924T221552Z
LAST-MODIFIED:20260111T012947Z
UID:10002915-1764061200-1764079200@www.stelizabeth.com
SUMMARY:CardioVascular Mobile Health Unit — Aurora\, IN
DESCRIPTION:The CardioVascular Mobile Health Unit (CVMHU) provides cardiovascular screenings at locations throughout the community. Screenings available are: \n\nPeripheral Artery Disease (PAD)\nStroke/Carotid Artery\nAbdominal Aortic Aneurysm (AAA)\nCardiac Age Heart Risk Assessment\n\nLearn more about screenings offered on the CVMHU. \nCost\nScreenings are $25 each\, all four for $100. \nAsk for your BONUS atrial fibrillation screening at no cost when you schedule. \nReservations\nReservations are required. Call (859) 301-9355 (WELL) to schedule an appointment.
URL:https://www.stelizabeth.com/event/cardiovascular-mobile-health-unit-aurora-in-11/
LOCATION:St. Elizabeth Physicians – Aurora\, 204 Bridgeway Street\, Aurora\, IN\, 47001\, United States
CATEGORIES:Heart & Vascular
GEO:39.056945;-84.9029942
X-APPLE-STRUCTURED-LOCATION;VALUE=URI;X-ADDRESS=St. Elizabeth Physicians – Aurora 204 Bridgeway Street Aurora IN 47001 United States;X-APPLE-RADIUS=500;X-TITLE=204 Bridgeway Street:geo:-84.9029942,39.056945
END:VEVENT
BEGIN:VEVENT
DTSTART;TZID=America/New_York:20251126T083000
DTEND;TZID=America/New_York:20251126T140000
DTSTAMP:20260421T072520
CREATED:20250924T221856Z
LAST-MODIFIED:20260111T012940Z
UID:10002912-1764145800-1764165600@www.stelizabeth.com
SUMMARY:CardioVascular Mobile Health Unit — Florence\, KY
DESCRIPTION:The CardioVascular Mobile Health Unit (CVMHU) provides cardiovascular screenings at locations throughout the community. Screenings available are: \n\nPeripheral Artery Disease (PAD)\nStroke/Carotid Artery\nAbdominal Aortic Aneurysm (AAA)\nCardiac Age Heart Risk Assessment\n\nLearn more about screenings offered on the CVMHU. \nCost\nScreenings are $25 each\, all four for $100. \nAsk for your BONUS atrial fibrillation screening at no cost when you schedule. \nReservations\nReservations are required. Call (859) 301-9355 (WELL) to schedule an appointment.
URL:https://www.stelizabeth.com/event/cardiovascular-mobile-health-unit-florence-ky-37/
LOCATION:St. Elizabeth Florence – Professional Office Building\, 4900 Houston Road\, Florence\, KY\, 41042\, United States
CATEGORIES:Heart & Vascular
GEO:39.0162024;-84.6304442
X-APPLE-STRUCTURED-LOCATION;VALUE=URI;X-ADDRESS=St. Elizabeth Florence – Professional Office Building 4900 Houston Road Florence KY 41042 United States;X-APPLE-RADIUS=500;X-TITLE=4900 Houston Road:geo:-84.6304442,39.0162024
END:VEVENT
END:VCALENDAR