BEGIN:VCALENDAR
VERSION:2.0
PRODID:-//St. Elizabeth Healthcare - ECPv6.15.20//NONSGML v1.0//EN
CALSCALE:GREGORIAN
METHOD:PUBLISH
X-ORIGINAL-URL:https://www.stelizabeth.com
X-WR-CALDESC:Events for St. Elizabeth Healthcare
REFRESH-INTERVAL;VALUE=DURATION:PT1H
X-Robots-Tag:noindex
X-PUBLISHED-TTL:PT1H
BEGIN:VTIMEZONE
TZID:America/New_York
BEGIN:DAYLIGHT
TZOFFSETFROM:-0500
TZOFFSETTO:-0400
TZNAME:EDT
DTSTART:20240310T070000
END:DAYLIGHT
BEGIN:STANDARD
TZOFFSETFROM:-0400
TZOFFSETTO:-0500
TZNAME:EST
DTSTART:20241103T060000
END:STANDARD
BEGIN:DAYLIGHT
TZOFFSETFROM:-0500
TZOFFSETTO:-0400
TZNAME:EDT
DTSTART:20250309T070000
END:DAYLIGHT
BEGIN:STANDARD
TZOFFSETFROM:-0400
TZOFFSETTO:-0500
TZNAME:EST
DTSTART:20251102T060000
END:STANDARD
BEGIN:DAYLIGHT
TZOFFSETFROM:-0500
TZOFFSETTO:-0400
TZNAME:EDT
DTSTART:20260308T070000
END:DAYLIGHT
BEGIN:STANDARD
TZOFFSETFROM:-0400
TZOFFSETTO:-0500
TZNAME:EST
DTSTART:20261101T060000
END:STANDARD
END:VTIMEZONE
BEGIN:VEVENT
DTSTART;TZID=America/New_York:20251006T090000
DTEND;TZID=America/New_York:20251006T140000
DTSTAMP:20260423T015847
CREATED:20250903T214616Z
LAST-MODIFIED:20260111T014456Z
UID:10003009-1759741200-1759759200@www.stelizabeth.com
SUMMARY:CardioVascular Mobile Health Unit – Greendale\, IN
DESCRIPTION:The CardioVascular Mobile Health Unit (CVMHU) provides cardiovascular screenings at locations throughout the community. Screenings available are: \n\nPeripheral Artery Disease (PAD)\nStroke/Carotid Artery\nAbdominal Aortic Aneurysm (AAA)\nCardiac Age Heart Risk Assessment\n\nLearn more about screenings offered on the CVMHU. \nCost\nScreenings are $25 each\, all four for $100. \nAsk for your BONUS atrial fibrillation screening at no cost when you schedule. \nReservations\nReservations are required. Call (859) 301-9355 (WELL) to schedule an appointment.
URL:https://www.stelizabeth.com/event/cardiovascular-mobile-health-unit-greendale-in-13/
LOCATION:St. Elizabeth Physicians Greendale\, 1640 Flossie Drive\, Greendale\, IN\, 47025\, United States
CATEGORIES:Heart & Vascular
GEO:39.1256698;-84.843729
X-APPLE-STRUCTURED-LOCATION;VALUE=URI;X-ADDRESS=St. Elizabeth Physicians Greendale 1640 Flossie Drive Greendale IN 47025 United States;X-APPLE-RADIUS=500;X-TITLE=1640 Flossie Drive:geo:-84.843729,39.1256698
END:VEVENT
BEGIN:VEVENT
DTSTART;TZID=America/New_York:20251007T090000
DTEND;TZID=America/New_York:20251007T140000
DTSTAMP:20260423T015847
CREATED:20250903T214838Z
LAST-MODIFIED:20260111T014452Z
UID:10003007-1759827600-1759845600@www.stelizabeth.com
SUMMARY:CardioVascular Mobile Health Unit – Burlington\, KY
DESCRIPTION:The CardioVascular Mobile Health Unit (CVMHU) provides cardiovascular screenings at locations throughout the community. Screenings available are: \n\nPeripheral Artery Disease (PAD)\nStroke/Carotid Artery\nAbdominal Aortic Aneurysm (AAA)\nCardiac Age Heart Risk Assessment\n\nLearn more about screenings offered on the CVMHU. \nCost\nScreenings are $25 each\, all four for $100. \nAsk for your BONUS atrial fibrillation screening at no cost when you schedule. \nReservations\nReservations are required. Call (859) 301-9355 (WELL) to schedule an appointment.
URL:https://www.stelizabeth.com/event/cardiovascular-mobile-health-unit-burlington-ky-13/
LOCATION:RC Durr YMCA\, 5874 Veterans Way\, Burlington\, KY\, 41005\, United States
CATEGORIES:Heart & Vascular
GEO:39.0234646;-84.7079787
X-APPLE-STRUCTURED-LOCATION;VALUE=URI;X-ADDRESS=RC Durr YMCA 5874 Veterans Way Burlington KY 41005 United States;X-APPLE-RADIUS=500;X-TITLE=5874 Veterans Way:geo:-84.7079787,39.0234646
END:VEVENT
BEGIN:VEVENT
DTSTART;TZID=America/New_York:20251008T090000
DTEND;TZID=America/New_York:20251008T140000
DTSTAMP:20260423T015847
CREATED:20250903T215056Z
LAST-MODIFIED:20260111T014442Z
UID:10003003-1759914000-1759932000@www.stelizabeth.com
SUMMARY:CardioVascular Mobile Health Unit – Crescent Springs\, KY
DESCRIPTION:The CardioVascular Mobile Health Unit (CVMHU) provides cardiovascular screenings at locations throughout the community. Screenings available are: \n\nPeripheral Artery Disease (PAD)\nStroke/Carotid Artery\nAbdominal Aortic Aneurysm (AAA)\nCardiac Age Heart Risk Assessment\n\nLearn more about screenings offered on the CVMHU. \nCost\nScreenings are $25 each\, all four for $100. \nAsk for your BONUS atrial fibrillation screening at no cost when you schedule. \nReservations\nReservations are required. Call (859) 301-9355 (WELL) to schedule an appointment.
URL:https://www.stelizabeth.com/event/cardiovascular-mobile-health-unit-crescent-springs-ky-10/
LOCATION:Remke Markets – Buttermilk Pike\, 560 Clock Tower Way\, Crescent Springs\, KY\, 41017\, United States
CATEGORIES:Heart & Vascular
GEO:39.0522864;-84.5732153
X-APPLE-STRUCTURED-LOCATION;VALUE=URI;X-ADDRESS=Remke Markets – Buttermilk Pike 560 Clock Tower Way Crescent Springs KY 41017 United States;X-APPLE-RADIUS=500;X-TITLE=560 Clock Tower Way:geo:-84.5732153,39.0522864
END:VEVENT
BEGIN:VEVENT
DTSTART;TZID=America/New_York:20251009T090000
DTEND;TZID=America/New_York:20251009T140000
DTSTAMP:20260423T015847
CREATED:20250903T215249Z
LAST-MODIFIED:20260111T014439Z
UID:10003002-1760000400-1760018400@www.stelizabeth.com
SUMMARY:CardioVascular Mobile Health Unit – Newport\, KY
DESCRIPTION:The CardioVascular Mobile Health Unit (CVMHU) provides cardiovascular screenings at locations throughout the community. Screenings available are: \n\nPeripheral Artery Disease (PAD)\nStroke/Carotid Artery\nAbdominal Aortic Aneurysm (AAA)\nCardiac Age Heart Risk Assessment\n\nLearn more about screenings offered on the CVMHU. \nCost\nScreenings are $25 each\, all four for $100. \nAsk for your BONUS atrial fibrillation screening at no cost when you schedule. \nReservations\nReservations are required. Call (859) 301-9355 (WELL) to schedule an appointment.
URL:https://www.stelizabeth.com/event/cardiovascular-mobile-health-unit-newport-ky-12/
LOCATION:Kroger Marketplace Newport\, 130 Pavilion Parkway\, Newport\, KY\, 41071\, United States
CATEGORIES:Heart & Vascular
GEO:39.0901702;-84.4778335
X-APPLE-STRUCTURED-LOCATION;VALUE=URI;X-ADDRESS=Kroger Marketplace Newport 130 Pavilion Parkway Newport KY 41071 United States;X-APPLE-RADIUS=500;X-TITLE=130 Pavilion Parkway:geo:-84.4778335,39.0901702
END:VEVENT
END:VCALENDAR