BEGIN:VCALENDAR
VERSION:2.0
PRODID:-//St. Elizabeth Healthcare - ECPv6.15.20//NONSGML v1.0//EN
CALSCALE:GREGORIAN
METHOD:PUBLISH
X-ORIGINAL-URL:https://www.stelizabeth.com
X-WR-CALDESC:Events for St. Elizabeth Healthcare
REFRESH-INTERVAL;VALUE=DURATION:PT1H
X-Robots-Tag:noindex
X-PUBLISHED-TTL:PT1H
BEGIN:VTIMEZONE
TZID:America/New_York
BEGIN:DAYLIGHT
TZOFFSETFROM:-0500
TZOFFSETTO:-0400
TZNAME:EDT
DTSTART:20240310T070000
END:DAYLIGHT
BEGIN:STANDARD
TZOFFSETFROM:-0400
TZOFFSETTO:-0500
TZNAME:EST
DTSTART:20241103T060000
END:STANDARD
BEGIN:DAYLIGHT
TZOFFSETFROM:-0500
TZOFFSETTO:-0400
TZNAME:EDT
DTSTART:20250309T070000
END:DAYLIGHT
BEGIN:STANDARD
TZOFFSETFROM:-0400
TZOFFSETTO:-0500
TZNAME:EST
DTSTART:20251102T060000
END:STANDARD
BEGIN:DAYLIGHT
TZOFFSETFROM:-0500
TZOFFSETTO:-0400
TZNAME:EDT
DTSTART:20260308T070000
END:DAYLIGHT
BEGIN:STANDARD
TZOFFSETFROM:-0400
TZOFFSETTO:-0500
TZNAME:EST
DTSTART:20261101T060000
END:STANDARD
END:VTIMEZONE
BEGIN:VEVENT
DTSTART;TZID=America/New_York:20250922T090000
DTEND;TZID=America/New_York:20250922T140000
DTSTAMP:20260422T064823
CREATED:20250630T163554Z
LAST-MODIFIED:20260111T014808Z
UID:10003035-1758531600-1758549600@www.stelizabeth.com
SUMMARY:CardioVascular Mobile Health Unit – Aurora\, IN
DESCRIPTION:The CardioVascular Mobile Health Unit (CVMHU) provides cardiovascular screenings at locations throughout the community. Screenings available are: \n\nPeripheral Artery Disease (PAD)\nStroke/Carotid Artery\nAbdominal Aortic Aneurysm (AAA)\nCardiac Age Heart Risk Assessment\n\nLearn more about screenings offered on the CVMHU. \nCost\nScreenings are $25 each\, all four for $100. \nAsk for your BONUS atrial fibrillation screening at no cost when you schedule. \nReservations\nReservations are required. Call (859) 301-9355 (WELL) to schedule an appointment.
URL:https://www.stelizabeth.com/event/cardiovascular-mobile-health-unit-aurora-in-10/
LOCATION:St. Elizabeth Physicians – Aurora\, 204 Bridgeway Street\, Aurora\, IN\, 47001\, United States
CATEGORIES:Heart & Vascular
GEO:39.056945;-84.9029942
X-APPLE-STRUCTURED-LOCATION;VALUE=URI;X-ADDRESS=St. Elizabeth Physicians – Aurora 204 Bridgeway Street Aurora IN 47001 United States;X-APPLE-RADIUS=500;X-TITLE=204 Bridgeway Street:geo:-84.9029942,39.056945
END:VEVENT
BEGIN:VEVENT
DTSTART;TZID=America/New_York:20250923T090000
DTEND;TZID=America/New_York:20250923T140000
DTSTAMP:20260422T064823
CREATED:20250630T164218Z
LAST-MODIFIED:20260111T014803Z
UID:10003033-1758618000-1758636000@www.stelizabeth.com
SUMMARY:CardioVascular Mobile Health Unit – Union\, KY
DESCRIPTION:The CardioVascular Mobile Health Unit (CVMHU) provides cardiovascular screenings at locations throughout the community. Screenings available are: \n\nPeripheral Artery Disease (PAD)\nStroke/Carotid Artery\nAbdominal Aortic Aneurysm (AAA)\nCardiac Age Heart Risk Assessment\n\nLearn more about screenings offered on the CVMHU. \nCost\nScreenings are $25 each\, all four for $100. \nAsk for your BONUS atrial fibrillation screening at no cost when you schedule. \nReservations\nReservations are required. Call (859) 301-9355 (WELL) to schedule an appointment.
URL:https://www.stelizabeth.com/event/cardiovascular-mobile-health-unit-union-ky-6/
LOCATION:Story Point Senior Living\, 9255 US Highway 42\, Union\, KY\, 41091\, United States
CATEGORIES:Heart & Vascular
GEO:38.9596452;-84.6776669
X-APPLE-STRUCTURED-LOCATION;VALUE=URI;X-ADDRESS=Story Point Senior Living 9255 US Highway 42 Union KY 41091 United States;X-APPLE-RADIUS=500;X-TITLE=9255 US Highway 42:geo:-84.6776669,38.9596452
END:VEVENT
BEGIN:VEVENT
DTSTART;TZID=America/New_York:20250924T090000
DTEND;TZID=America/New_York:20250924T140000
DTSTAMP:20260422T064823
CREATED:20250630T164408Z
LAST-MODIFIED:20260111T014759Z
UID:10003031-1758704400-1758722400@www.stelizabeth.com
SUMMARY:CardioVascular Mobile Health Unit – Crittenden\, KY
DESCRIPTION:The CardioVascular Mobile Health Unit (CVMHU) provides cardiovascular screenings at locations throughout the community. Screenings available are: \n\nPeripheral Artery Disease (PAD)\nStroke/Carotid Artery\nAbdominal Aortic Aneurysm (AAA)\nCardiac Age Heart Risk Assessment\n\nLearn more about screenings offered on the CVMHU. \nCost\nScreenings are $25 each\, all four for $100. \nAsk for your BONUS atrial fibrillation screening at no cost when you schedule. \nReservations\nReservations are required. Call (859) 301-9355 (WELL) to schedule an appointment.
URL:https://www.stelizabeth.com/event/cardiovascular-mobile-health-unit-crittenden-ky-3/
LOCATION:Grant County Drugs – Crittenden\, 375 Violet Road\, Crittenden\, KY\, 41030\, United States
CATEGORIES:Heart & Vascular
END:VEVENT
BEGIN:VEVENT
DTSTART;TZID=America/New_York:20250925T090000
DTEND;TZID=America/New_York:20250925T140000
DTSTAMP:20260422T064823
CREATED:20250630T164638Z
LAST-MODIFIED:20260111T014645Z
UID:10003029-1758790800-1758808800@www.stelizabeth.com
SUMMARY:CardioVascular Mobile Health Unit – Burlington\, KY
DESCRIPTION:The CardioVascular Mobile Health Unit (CVMHU) provides cardiovascular screenings at locations throughout the community. Screenings available are: \n\nPeripheral Artery Disease (PAD)\nStroke/Carotid Artery\nAbdominal Aortic Aneurysm (AAA)\nCardiac Age Heart Risk Assessment\n\nLearn more about screenings offered on the CVMHU. \nCost\nScreenings are $25 each\, all four for $100. \nAsk for your BONUS atrial fibrillation screening at no cost when you schedule. \nReservations\nReservations are required. Call (859) 301-9355 (WELL) to schedule an appointment.
URL:https://www.stelizabeth.com/event/cardiovascular-mobile-health-unit-burlington-ky-12/
LOCATION:RC Durr YMCA\, 5874 Veterans Way\, Burlington\, KY\, 41005\, United States
CATEGORIES:Heart & Vascular
GEO:39.0234646;-84.7079787
X-APPLE-STRUCTURED-LOCATION;VALUE=URI;X-ADDRESS=RC Durr YMCA 5874 Veterans Way Burlington KY 41005 United States;X-APPLE-RADIUS=500;X-TITLE=5874 Veterans Way:geo:-84.7079787,39.0234646
END:VEVENT
END:VCALENDAR