BEGIN:VCALENDAR
VERSION:2.0
PRODID:-//St. Elizabeth Healthcare - ECPv6.15.20//NONSGML v1.0//EN
CALSCALE:GREGORIAN
METHOD:PUBLISH
X-WR-CALNAME:St. Elizabeth Healthcare
X-ORIGINAL-URL:https://www.stelizabeth.com
X-WR-CALDESC:Events for St. Elizabeth Healthcare
REFRESH-INTERVAL;VALUE=DURATION:PT1H
X-Robots-Tag:noindex
X-PUBLISHED-TTL:PT1H
BEGIN:VTIMEZONE
TZID:America/New_York
BEGIN:DAYLIGHT
TZOFFSETFROM:-0500
TZOFFSETTO:-0400
TZNAME:EDT
DTSTART:20240310T070000
END:DAYLIGHT
BEGIN:STANDARD
TZOFFSETFROM:-0400
TZOFFSETTO:-0500
TZNAME:EST
DTSTART:20241103T060000
END:STANDARD
BEGIN:DAYLIGHT
TZOFFSETFROM:-0500
TZOFFSETTO:-0400
TZNAME:EDT
DTSTART:20250309T070000
END:DAYLIGHT
BEGIN:STANDARD
TZOFFSETFROM:-0400
TZOFFSETTO:-0500
TZNAME:EST
DTSTART:20251102T060000
END:STANDARD
BEGIN:DAYLIGHT
TZOFFSETFROM:-0500
TZOFFSETTO:-0400
TZNAME:EDT
DTSTART:20260308T070000
END:DAYLIGHT
BEGIN:STANDARD
TZOFFSETFROM:-0400
TZOFFSETTO:-0500
TZNAME:EST
DTSTART:20261101T060000
END:STANDARD
END:VTIMEZONE
BEGIN:VEVENT
DTSTART;TZID=America/New_York:20250916T090000
DTEND;TZID=America/New_York:20250916T140000
DTSTAMP:20260422T221135
CREATED:20250630T162548Z
LAST-MODIFIED:20260111T014833Z
UID:10003045-1758013200-1758031200@www.stelizabeth.com
SUMMARY:CardioVascular Mobile Health Unit – Southgate\, KY
DESCRIPTION:The CardioVascular Mobile Health Unit (CVMHU) provides cardiovascular screenings at locations throughout the community. Screenings available are: \n\nPeripheral Artery Disease (PAD)\nStroke/Carotid Artery\nAbdominal Aortic Aneurysm (AAA)\nCardiac Age Heart Risk Assessment\n\nLearn more about screenings offered on the CVMHU. \nCost\nScreenings are $25 each\, all four for $100. \nAsk for your BONUS atrial fibrillation screening at no cost when you schedule. \nReservations\nReservations are required. Call (859) 301-9355 (WELL) to schedule an appointment.
URL:https://www.stelizabeth.com/event/cardiovascular-mobile-health-unit-southgate-ky/
LOCATION:St. Elizabeth Physicians – Southgate\, 525 Alexandria Pike\, Southgate\, 41071\, United States
CATEGORIES:Heart & Vascular
END:VEVENT
BEGIN:VEVENT
DTSTART;TZID=America/New_York:20250917T090000
DTEND;TZID=America/New_York:20250917T140000
DTSTAMP:20260422T221135
CREATED:20250630T162813Z
LAST-MODIFIED:20260111T014831Z
UID:10003044-1758099600-1758117600@www.stelizabeth.com
SUMMARY:CardioVascular Mobile Health Unit – Williamstown\, KY
DESCRIPTION:The CardioVascular Mobile Health Unit (CVMHU) provides cardiovascular screenings at locations throughout the community. Screenings available are: \n\nPeripheral Artery Disease (PAD)\nStroke/Carotid Artery\nAbdominal Aortic Aneurysm (AAA)\nCardiac Age Heart Risk Assessment\n\nLearn more about screenings offered on the CVMHU. \nCost\nScreenings are $25 each\, all four for $100. \nAsk for your BONUS atrial fibrillation screening at no cost when you schedule. \nReservations\nReservations are required. Call (859) 301-9355 (WELL) to schedule an appointment.
URL:https://www.stelizabeth.com/event/cardiovascular-mobile-health-unit-williamstown-ky-10/
LOCATION:St. Elizabeth Healthcare – Grant County\, 238 Barnes Road\, Williamstown\, KY\, 41097\, United States
CATEGORIES:Heart & Vascular
GEO:38.6474516;-84.5776838
X-APPLE-STRUCTURED-LOCATION;VALUE=URI;X-ADDRESS=St. Elizabeth Healthcare – Grant County 238 Barnes Road Williamstown KY 41097 United States;X-APPLE-RADIUS=500;X-TITLE=238 Barnes Road:geo:-84.5776838,38.6474516
END:VEVENT
BEGIN:VEVENT
DTSTART;TZID=America/New_York:20250918T080000
DTEND;TZID=America/New_York:20250918T133000
DTSTAMP:20260422T221135
CREATED:20250630T163026Z
LAST-MODIFIED:20260111T014827Z
UID:10003042-1758182400-1758202200@www.stelizabeth.com
SUMMARY:CardioVascular Mobile Health Unit – Union\, KY
DESCRIPTION:The CardioVascular Mobile Health Unit (CVMHU) provides cardiovascular screenings at locations throughout the community. Screenings available are: \n\nPeripheral Artery Disease (PAD)\nStroke/Carotid Artery\nAbdominal Aortic Aneurysm (AAA)\nCardiac Age Heart Risk Assessment\n\nLearn more about screenings offered on the CVMHU. \nCost\nScreenings are $25 each\, all four for $100. \nAsk for your BONUS atrial fibrillation screening at no cost when you schedule. \nReservations\nReservations are required. Call (859) 301-9355 (WELL) to schedule an appointment.
URL:https://www.stelizabeth.com/event/cardiovascular-mobile-health-unit-union-ky-5/
LOCATION:St. Elizabeth Physicians Union\, 1808 Bristow Drive\, Union\, KY\, 41091\, United States
CATEGORIES:Heart & Vascular
GEO:38.947447;-84.6744871
X-APPLE-STRUCTURED-LOCATION;VALUE=URI;X-ADDRESS=St. Elizabeth Physicians Union 1808 Bristow Drive Union KY 41091 United States;X-APPLE-RADIUS=500;X-TITLE=1808 Bristow Drive:geo:-84.6744871,38.947447
END:VEVENT
BEGIN:VEVENT
DTSTART;TZID=America/New_York:20250919T083000
DTEND;TZID=America/New_York:20250919T133000
DTSTAMP:20260422T221135
CREATED:20250630T163304Z
LAST-MODIFIED:20260111T014816Z
UID:10003038-1758270600-1758288600@www.stelizabeth.com
SUMMARY:CardioVascular Mobile Health Unit – Florence\, KY
DESCRIPTION:The CardioVascular Mobile Health Unit (CVMHU) provides cardiovascular screenings at locations throughout the community. Screenings available are: \n\nPeripheral Artery Disease (PAD)\nStroke/Carotid Artery\nAbdominal Aortic Aneurysm (AAA)\nCardiac Age Heart Risk Assessment\n\nLearn more about screenings offered on the CVMHU. \nCost\nScreenings are $25 each\, all four for $100. \nAsk for your BONUS atrial fibrillation screening at no cost when you schedule. \nReservations\nReservations are required. Call (859) 301-9355 (WELL) to schedule an appointment.
URL:https://www.stelizabeth.com/event/cardiovascular-mobile-health-unit-florence-ky-31/
LOCATION:St. Elizabeth Healthcare Florence Professional Office Building\, 4900 Houston Road\, Florence\, KY\, 41042\, United States
CATEGORIES:Heart & Vascular
GEO:39.0162024;-84.6304442
X-APPLE-STRUCTURED-LOCATION;VALUE=URI;X-ADDRESS=St. Elizabeth Healthcare Florence Professional Office Building 4900 Houston Road Florence KY 41042 United States;X-APPLE-RADIUS=500;X-TITLE=4900 Houston Road:geo:-84.6304442,39.0162024
END:VEVENT
END:VCALENDAR