BEGIN:VCALENDAR
VERSION:2.0
PRODID:-//St. Elizabeth Healthcare - ECPv6.15.20//NONSGML v1.0//EN
CALSCALE:GREGORIAN
METHOD:PUBLISH
X-WR-CALNAME:St. Elizabeth Healthcare
X-ORIGINAL-URL:https://www.stelizabeth.com
X-WR-CALDESC:Events for St. Elizabeth Healthcare
REFRESH-INTERVAL;VALUE=DURATION:PT1H
X-Robots-Tag:noindex
X-PUBLISHED-TTL:PT1H
BEGIN:VTIMEZONE
TZID:America/New_York
BEGIN:DAYLIGHT
TZOFFSETFROM:-0500
TZOFFSETTO:-0400
TZNAME:EDT
DTSTART:20240310T070000
END:DAYLIGHT
BEGIN:STANDARD
TZOFFSETFROM:-0400
TZOFFSETTO:-0500
TZNAME:EST
DTSTART:20241103T060000
END:STANDARD
BEGIN:DAYLIGHT
TZOFFSETFROM:-0500
TZOFFSETTO:-0400
TZNAME:EDT
DTSTART:20250309T070000
END:DAYLIGHT
BEGIN:STANDARD
TZOFFSETFROM:-0400
TZOFFSETTO:-0500
TZNAME:EST
DTSTART:20251102T060000
END:STANDARD
BEGIN:DAYLIGHT
TZOFFSETFROM:-0500
TZOFFSETTO:-0400
TZNAME:EDT
DTSTART:20260308T070000
END:DAYLIGHT
BEGIN:STANDARD
TZOFFSETFROM:-0400
TZOFFSETTO:-0500
TZNAME:EST
DTSTART:20261101T060000
END:STANDARD
END:VTIMEZONE
BEGIN:VEVENT
DTSTART;TZID=America/New_York:20250908T090000
DTEND;TZID=America/New_York:20250908T140000
DTSTAMP:20260421T214733
CREATED:20250625T195618Z
LAST-MODIFIED:20260111T015023Z
UID:10003064-1757322000-1757340000@www.stelizabeth.com
SUMMARY:CardioVascular Mobile Health Unit – Covington\, KY
DESCRIPTION:The CardioVascular Mobile Health Unit (CVMHU) provides cardiovascular screenings at locations throughout the community. Screenings available are: \n\nPeripheral Artery Disease (PAD)\nStroke/Carotid Artery\nAbdominal Aortic Aneurysm (AAA)\nCardiac Age Heart Risk Assessment\n\nLearn more about screenings offered on the CVMHU. \nCost\nScreenings are $25 each\, all four for $100. \nAsk for your BONUS atrial fibrillation screening at no cost when you schedule. \nReservations\nReservations are required. Call (859) 301-9355 (WELL) to schedule an appointment.
URL:https://www.stelizabeth.com/event/cardiovascular-mobile-health-unit-covington-ky-9/
LOCATION:St. Elizabeth Healthcare – Covington\, 1500 James Simpson Junior Way\, Covington\, KY\, 41011\, United States
CATEGORIES:Heart & Vascular
GEO:39.0711158;-84.5177892
X-APPLE-STRUCTURED-LOCATION;VALUE=URI;X-ADDRESS=St. Elizabeth Healthcare – Covington 1500 James Simpson Junior Way Covington KY 41011 United States;X-APPLE-RADIUS=500;X-TITLE=1500 James Simpson Junior Way:geo:-84.5177892,39.0711158
END:VEVENT
BEGIN:VEVENT
DTSTART;TZID=America/New_York:20250909T090000
DTEND;TZID=America/New_York:20250909T150000
DTSTAMP:20260421T214733
CREATED:20250625T200031Z
LAST-MODIFIED:20260111T015018Z
UID:10003062-1757408400-1757430000@www.stelizabeth.com
SUMMARY:CardioVascular Mobile Health Unit – Crestview Hills\, KY
DESCRIPTION:The CardioVascular Mobile Health Unit (CVMHU) provides cardiovascular screenings at locations throughout the community. Screenings available are: \n\nPeripheral Artery Disease (PAD)\nStroke/Carotid Artery\nAbdominal Aortic Aneurysm (AAA)\nCardiac Age Heart Risk Assessment\n\nLearn more about screenings offered on the CVMHU. \nCost\nScreenings are $25 each\, all four for $100. \nAsk for your BONUS atrial fibrillation screening at no cost when you schedule. \nReservations\nReservations are required. Call (859) 301-9355 (WELL) to schedule an appointment.
URL:https://www.stelizabeth.com/event/cardiovascular-mobile-health-unit-crestview-hills-ky-13/
LOCATION:Crestview Hills Town Center\, 2791 Town Center Boulevard\, Crestview Hills\, KY\, 41017\, United States
CATEGORIES:Heart & Vascular
GEO:39.0240013;-84.5794827
X-APPLE-STRUCTURED-LOCATION;VALUE=URI;X-ADDRESS=Crestview Hills Town Center 2791 Town Center Boulevard Crestview Hills KY 41017 United States;X-APPLE-RADIUS=500;X-TITLE=2791 Town Center Boulevard:geo:-84.5794827,39.0240013
END:VEVENT
BEGIN:VEVENT
DTSTART;TZID=America/New_York:20250910T090000
DTEND;TZID=America/New_York:20250910T140000
DTSTAMP:20260421T214733
CREATED:20250630T161946Z
LAST-MODIFIED:20260111T015006Z
UID:10003056-1757494800-1757512800@www.stelizabeth.com
SUMMARY:CardioVascular Mobile Health Unit – Taylor Mill\, KY
DESCRIPTION:The CardioVascular Mobile Health Unit (CVMHU) provides cardiovascular screenings at locations throughout the community. Screenings available are: \n\nPeripheral Artery Disease (PAD)\nStroke/Carotid Artery\nAbdominal Aortic Aneurysm (AAA)\nCardiac Age Heart Risk Assessment\n\nLearn more about screenings offered on the CVMHU. \nCost\nScreenings are $25 each\, all four for $100. \nAsk for your BONUS atrial fibrillation screening at no cost when you schedule. \nReservations\nReservations are required. Call (859) 301-9355 (WELL) to schedule an appointment.
URL:https://www.stelizabeth.com/event/cardiovascular-mobile-health-unit-taylor-mill-ky-3/
LOCATION:St. Elizabeth Physicians – Taylor Mill\, 5100 Peace Way\, Taylor Mill\, KY\, 41015\, United States
CATEGORIES:Heart & Vascular
GEO:39.0160442;-84.5118206
X-APPLE-STRUCTURED-LOCATION;VALUE=URI;X-ADDRESS=St. Elizabeth Physicians – Taylor Mill 5100 Peace Way Taylor Mill KY 41015 United States;X-APPLE-RADIUS=500;X-TITLE=5100 Peace Way:geo:-84.5118206,39.0160442
END:VEVENT
BEGIN:VEVENT
DTSTART;TZID=America/New_York:20250911T100000
DTEND;TZID=America/New_York:20250911T140000
DTSTAMP:20260421T214733
CREATED:20250630T162402Z
LAST-MODIFIED:20260111T014959Z
UID:10003053-1757584800-1757599200@www.stelizabeth.com
SUMMARY:CardioVascular Mobile Health Unit – Erlanger\, KY
DESCRIPTION:The CardioVascular Mobile Health Unit (CVMHU) provides cardiovascular screenings at locations throughout the community. Screenings available are: \n\nPeripheral Artery Disease (PAD)\nStroke/Carotid Artery\nAbdominal Aortic Aneurysm (AAA)\nCardiac Age Heart Risk Assessment\n\nLearn more about screenings offered on the CVMHU. \nCost\nScreenings are $25 each\, all four for $100. \nAsk for your BONUS atrial fibrillation screening at no cost when you schedule. \nReservations\nReservations are required. Call (859) 301-9355 (WELL) to schedule an appointment.
URL:https://www.stelizabeth.com/event/cardiovascular-mobile-health-unit-newport-ky-11/
LOCATION:Kenton County Library\, 401 Kenton Lands Rd\, Erlanger\, 41018\, United States
CATEGORIES:Heart & Vascular
GEO:39.0298539;-84.5938668
X-APPLE-STRUCTURED-LOCATION;VALUE=URI;X-ADDRESS=Kenton County Library 401 Kenton Lands Rd Erlanger 41018 United States;X-APPLE-RADIUS=500;X-TITLE=401 Kenton Lands Rd:geo:-84.5938668,39.0298539
END:VEVENT
END:VCALENDAR