BEGIN:VCALENDAR
VERSION:2.0
PRODID:-//St. Elizabeth Healthcare - ECPv6.15.20//NONSGML v1.0//EN
CALSCALE:GREGORIAN
METHOD:PUBLISH
X-WR-CALNAME:St. Elizabeth Healthcare
X-ORIGINAL-URL:https://www.stelizabeth.com
X-WR-CALDESC:Events for St. Elizabeth Healthcare
REFRESH-INTERVAL;VALUE=DURATION:PT1H
X-Robots-Tag:noindex
X-PUBLISHED-TTL:PT1H
BEGIN:VTIMEZONE
TZID:America/New_York
BEGIN:DAYLIGHT
TZOFFSETFROM:-0500
TZOFFSETTO:-0400
TZNAME:EDT
DTSTART:20240310T070000
END:DAYLIGHT
BEGIN:STANDARD
TZOFFSETFROM:-0400
TZOFFSETTO:-0500
TZNAME:EST
DTSTART:20241103T060000
END:STANDARD
BEGIN:DAYLIGHT
TZOFFSETFROM:-0500
TZOFFSETTO:-0400
TZNAME:EDT
DTSTART:20250309T070000
END:DAYLIGHT
BEGIN:STANDARD
TZOFFSETFROM:-0400
TZOFFSETTO:-0500
TZNAME:EST
DTSTART:20251102T060000
END:STANDARD
BEGIN:DAYLIGHT
TZOFFSETFROM:-0500
TZOFFSETTO:-0400
TZNAME:EDT
DTSTART:20260308T070000
END:DAYLIGHT
BEGIN:STANDARD
TZOFFSETFROM:-0400
TZOFFSETTO:-0500
TZNAME:EST
DTSTART:20261101T060000
END:STANDARD
END:VTIMEZONE
BEGIN:VEVENT
DTSTART;TZID=America/New_York:20250902T090000
DTEND;TZID=America/New_York:20250902T150000
DTSTAMP:20260421T200505
CREATED:20250625T191246Z
LAST-MODIFIED:20260111T015210Z
UID:10003074-1756803600-1756825200@www.stelizabeth.com
SUMMARY:CardioVascular Mobile Health Unit – Florence\, KY
DESCRIPTION:The CardioVascular Mobile Health Unit (CVMHU) provides cardiovascular screenings at locations throughout the community. Screenings available are: \n\nPeripheral Artery Disease (PAD)\nStroke/Carotid Artery\nAbdominal Aortic Aneurysm (AAA)\nCardiac Age Heart Risk Assessment\n\nLearn more about screenings offered on the CVMHU. \nCost\nScreenings are $25 each\, all four for $100. \nAsk for your BONUS atrial fibrillation screening at no cost when you schedule. \nReservations\nReservations are required. Call (859) 301-9355 (WELL) to schedule an appointment.
URL:https://www.stelizabeth.com/event/cardiovascular-mobile-health-unit-florence-ky-30/
LOCATION:St. Elizabeth Florence – Professional Office Building\, 4900 Houston Road\, Florence\, KY\, 41042\, United States
CATEGORIES:Heart & Vascular
GEO:39.0162024;-84.6304442
X-APPLE-STRUCTURED-LOCATION;VALUE=URI;X-ADDRESS=St. Elizabeth Florence – Professional Office Building 4900 Houston Road Florence KY 41042 United States;X-APPLE-RADIUS=500;X-TITLE=4900 Houston Road:geo:-84.6304442,39.0162024
END:VEVENT
BEGIN:VEVENT
DTSTART;TZID=America/New_York:20250903T090000
DTEND;TZID=America/New_York:20250903T140000
DTSTAMP:20260421T200505
CREATED:20250625T194816Z
LAST-MODIFIED:20260111T015208Z
UID:10003073-1756890000-1756908000@www.stelizabeth.com
SUMMARY:CardioVascular Mobile Health Unit – Greendale\, IN
DESCRIPTION:The CardioVascular Mobile Health Unit (CVMHU) provides cardiovascular screenings at locations throughout the community. Screenings available are: \n\nPeripheral Artery Disease (PAD)\nStroke/Carotid Artery\nAbdominal Aortic Aneurysm (AAA)\nCardiac Age Heart Risk Assessment\n\nLearn more about screenings offered on the CVMHU. \nCost\nScreenings are $25 each\, all four for $100. \nAsk for your BONUS atrial fibrillation screening at no cost when you schedule. \nReservations\nReservations are required. Call (859) 301-9355 (WELL) to schedule an appointment.
URL:https://www.stelizabeth.com/event/cardiovascular-mobile-health-unit-greendale-in-12/
LOCATION:St. Elizabeth Physicians Greendale\, 1640 Flossie Drive\, Greendale\, IN\, 47025\, United States
CATEGORIES:Heart & Vascular
GEO:39.1256698;-84.843729
X-APPLE-STRUCTURED-LOCATION;VALUE=URI;X-ADDRESS=St. Elizabeth Physicians Greendale 1640 Flossie Drive Greendale IN 47025 United States;X-APPLE-RADIUS=500;X-TITLE=1640 Flossie Drive:geo:-84.843729,39.1256698
END:VEVENT
BEGIN:VEVENT
DTSTART;TZID=America/New_York:20250904T083000
DTEND;TZID=America/New_York:20250904T140000
DTSTAMP:20260421T200505
CREATED:20250625T195235Z
LAST-MODIFIED:20260111T015201Z
UID:10003070-1756974600-1756994400@www.stelizabeth.com
SUMMARY:CardioVascular Mobile Health Unit – Edgewood\, KY
DESCRIPTION:The CardioVascular Mobile Health Unit (CVMHU) provides cardiovascular screenings at locations throughout the community. Screenings available are: \n\nPeripheral Artery Disease (PAD)\nStroke/Carotid Artery\nAbdominal Aortic Aneurysm (AAA)\nCardiac Age Heart Risk Assessment\n\nLearn more about screenings offered on the CVMHU. \nCost\nScreenings are $25 each\, all four for $100. \nAsk for your BONUS atrial fibrillation screening at no cost when you schedule. \nReservations\nReservations are required. Call (859) 301-9355 (WELL) to schedule an appointment.
URL:https://www.stelizabeth.com/event/cardiovascular-mobile-health-unit-edgewood-ky-12/
LOCATION:St. Elizabeth Florence Wormald HVI Building\, 711 Medical Village Drive\, Edgewood\, KY 41017\, Edgewood\, KY\, 41017\, United States
CATEGORIES:Heart & Vascular
GEO:39.0098818;-84.5652871
X-APPLE-STRUCTURED-LOCATION;VALUE=URI;X-ADDRESS=St. Elizabeth Florence Wormald HVI Building 711 Medical Village Drive Edgewood KY 41017 Edgewood KY 41017 United States;X-APPLE-RADIUS=500;X-TITLE=711 Medical Village Drive\, Edgewood\, KY 41017:geo:-84.5652871,39.0098818
END:VEVENT
BEGIN:VEVENT
DTSTART;TZID=America/New_York:20250905T090000
DTEND;TZID=America/New_York:20250905T140000
DTSTAMP:20260421T200505
CREATED:20250625T195452Z
LAST-MODIFIED:20260111T015027Z
UID:10003066-1757062800-1757080800@www.stelizabeth.com
SUMMARY:CardioVascular Mobile Health Unit – Crescent Springs\, KY
DESCRIPTION:The CardioVascular Mobile Health Unit (CVMHU) provides cardiovascular screenings at locations throughout the community. Screenings available are: \n\nPeripheral Artery Disease (PAD)\nStroke/Carotid Artery\nAbdominal Aortic Aneurysm (AAA)\nCardiac Age Heart Risk Assessment\n\nLearn more about screenings offered on the CVMHU. \nCost\nScreenings are $25 each\, all four for $100. \nAsk for your BONUS atrial fibrillation screening at no cost when you schedule. \nReservations\nReservations are required. Call (859) 301-9355 (WELL) to schedule an appointment.
URL:https://www.stelizabeth.com/event/cardiovascular-mobile-health-unit-crescent-springs-ky-9/
LOCATION:Remke Markets – Buttermilk Pike\, 560 Clock Tower Way\, Crescent Springs\, KY\, 41017\, United States
CATEGORIES:Heart & Vascular
GEO:39.0522864;-84.5732153
X-APPLE-STRUCTURED-LOCATION;VALUE=URI;X-ADDRESS=Remke Markets – Buttermilk Pike 560 Clock Tower Way Crescent Springs KY 41017 United States;X-APPLE-RADIUS=500;X-TITLE=560 Clock Tower Way:geo:-84.5732153,39.0522864
END:VEVENT
END:VCALENDAR