BEGIN:VCALENDAR
VERSION:2.0
PRODID:-//St. Elizabeth Healthcare - ECPv6.15.20//NONSGML v1.0//EN
CALSCALE:GREGORIAN
METHOD:PUBLISH
X-WR-CALNAME:St. Elizabeth Healthcare
X-ORIGINAL-URL:https://www.stelizabeth.com
X-WR-CALDESC:Events for St. Elizabeth Healthcare
REFRESH-INTERVAL;VALUE=DURATION:PT1H
X-Robots-Tag:noindex
X-PUBLISHED-TTL:PT1H
BEGIN:VTIMEZONE
TZID:America/New_York
BEGIN:DAYLIGHT
TZOFFSETFROM:-0500
TZOFFSETTO:-0400
TZNAME:EDT
DTSTART:20240310T070000
END:DAYLIGHT
BEGIN:STANDARD
TZOFFSETFROM:-0400
TZOFFSETTO:-0500
TZNAME:EST
DTSTART:20241103T060000
END:STANDARD
BEGIN:DAYLIGHT
TZOFFSETFROM:-0500
TZOFFSETTO:-0400
TZNAME:EDT
DTSTART:20250309T070000
END:DAYLIGHT
BEGIN:STANDARD
TZOFFSETFROM:-0400
TZOFFSETTO:-0500
TZNAME:EST
DTSTART:20251102T060000
END:STANDARD
BEGIN:DAYLIGHT
TZOFFSETFROM:-0500
TZOFFSETTO:-0400
TZNAME:EDT
DTSTART:20260308T070000
END:DAYLIGHT
BEGIN:STANDARD
TZOFFSETFROM:-0400
TZOFFSETTO:-0500
TZNAME:EST
DTSTART:20261101T060000
END:STANDARD
END:VTIMEZONE
BEGIN:VEVENT
DTSTART;TZID=America/New_York:20250825T090000
DTEND;TZID=America/New_York:20250825T140000
DTSTAMP:20260422T184711
CREATED:20250505T220340Z
LAST-MODIFIED:20260111T050334Z
UID:10003089-1756112400-1756130400@www.stelizabeth.com
SUMMARY:CardioVascular Mobile Health Unit – Edgewood\, KY
DESCRIPTION:The CardioVascular Mobile Health Unit (CVMHU) provides cardiovascular screenings at locations throughout the community. Screenings available are: \n\nPeripheral Artery Disease (PAD)\nStroke/Carotid Artery\nAbdominal Aortic Aneurysm (AAA)\nCardiac Age Heart Risk Assessment\n\nLearn more about screenings offered on the CVMHU. \nCost\nScreenings are $25 each\, all four for $100. \nAsk for your BONUS atrial fibrillation screening at no cost when you schedule. \nReservations\nReservations are required. Call (859) 301-9355 (WELL) to schedule an appointment.
URL:https://www.stelizabeth.com/event/cardiovascular-mobile-health-unit-edgewood-ky-11/
LOCATION:St. Elizabeth Florence Wormald HVI Building\, 711 Medical Village Drive\, Edgewood\, KY 41017\, Edgewood\, KY\, 41017\, United States
CATEGORIES:Heart & Vascular
GEO:39.0098818;-84.5652871
X-APPLE-STRUCTURED-LOCATION;VALUE=URI;X-ADDRESS=St. Elizabeth Florence Wormald HVI Building 711 Medical Village Drive Edgewood KY 41017 Edgewood KY 41017 United States;X-APPLE-RADIUS=500;X-TITLE=711 Medical Village Drive\, Edgewood\, KY 41017:geo:-84.5652871,39.0098818
END:VEVENT
BEGIN:VEVENT
DTSTART;TZID=America/New_York:20250826T090000
DTEND;TZID=America/New_York:20250826T140000
DTSTAMP:20260422T184711
CREATED:20250505T220516Z
LAST-MODIFIED:20260111T015233Z
UID:10003085-1756198800-1756216800@www.stelizabeth.com
SUMMARY:CardioVascular Mobile Health Unit – Covington\, KY
DESCRIPTION:The CardioVascular Mobile Health Unit (CVMHU) provides cardiovascular screenings at locations throughout the community. Screenings available are: \n\nPeripheral Artery Disease (PAD)\nStroke/Carotid Artery\nAbdominal Aortic Aneurysm (AAA)\nCardiac Age Heart Risk Assessment\n\nLearn more about screenings offered on the CVMHU. \nCost\nScreenings are $25 each\, all four for $100. \nAsk for your BONUS atrial fibrillation screening at no cost when you schedule. \nReservations\nReservations are required. Call (859) 301-9355 (WELL) to schedule an appointment.
URL:https://www.stelizabeth.com/event/cardiovascular-mobile-health-unit-covington-ky-11/
LOCATION:St. Elizabeth Healthcare – Covington\, 1500 James Simpson Junior Way\, Covington\, KY\, 41011\, United States
CATEGORIES:Heart & Vascular
GEO:39.0711158;-84.5177892
X-APPLE-STRUCTURED-LOCATION;VALUE=URI;X-ADDRESS=St. Elizabeth Healthcare – Covington 1500 James Simpson Junior Way Covington KY 41011 United States;X-APPLE-RADIUS=500;X-TITLE=1500 James Simpson Junior Way:geo:-84.5177892,39.0711158
END:VEVENT
BEGIN:VEVENT
DTSTART;TZID=America/New_York:20250827T090000
DTEND;TZID=America/New_York:20250827T140000
DTSTAMP:20260422T184711
CREATED:20250505T220742Z
LAST-MODIFIED:20260111T015228Z
UID:10003083-1756285200-1756303200@www.stelizabeth.com
SUMMARY:CardioVascular Mobile Health Unit – Crescent Springs\, KY
DESCRIPTION:The CardioVascular Mobile Health Unit (CVMHU) provides cardiovascular screenings at locations throughout the community. Screenings available are: \n\nPeripheral Artery Disease (PAD)\nStroke/Carotid Artery\nAbdominal Aortic Aneurysm (AAA)\nCardiac Age Heart Risk Assessment\n\nLearn more about screenings offered on the CVMHU. \nCost\nScreenings are $25 each\, all four for $100. \nAsk for your BONUS atrial fibrillation screening at no cost when you schedule. \nReservations\nReservations are required. Call (859) 301-9355 (WELL) to schedule an appointment.
URL:https://www.stelizabeth.com/event/cardiovascular-mobile-health-unit-crescent-springs-ky-8/
LOCATION:Remke Markets – Buttermilk Pike\, 560 Clock Tower Way\, Crescent Springs\, KY\, 41017\, United States
CATEGORIES:Heart & Vascular
GEO:39.0522864;-84.5732153
X-APPLE-STRUCTURED-LOCATION;VALUE=URI;X-ADDRESS=Remke Markets – Buttermilk Pike 560 Clock Tower Way Crescent Springs KY 41017 United States;X-APPLE-RADIUS=500;X-TITLE=560 Clock Tower Way:geo:-84.5732153,39.0522864
END:VEVENT
BEGIN:VEVENT
DTSTART;TZID=America/New_York:20250828T083000
DTEND;TZID=America/New_York:20250828T140000
DTSTAMP:20260422T184711
CREATED:20250505T221033Z
LAST-MODIFIED:20260111T015224Z
UID:10003081-1756369800-1756389600@www.stelizabeth.com
SUMMARY:CardioVascular Mobile Health Unit – Florence\, KY
DESCRIPTION:The CardioVascular Mobile Health Unit (CVMHU) provides cardiovascular screenings at locations throughout the community. Screenings available are: \n\nPeripheral Artery Disease (PAD)\nStroke/Carotid Artery\nAbdominal Aortic Aneurysm (AAA)\nCardiac Age Heart Risk Assessment\n\nLearn more about screenings offered on the CVMHU. \nCost\nScreenings are $25 each\, all four for $100. \nAsk for your BONUS atrial fibrillation screening at no cost when you schedule. \nReservations\nReservations are required. Call (859) 301-9355 (WELL) to schedule an appointment.
URL:https://www.stelizabeth.com/event/cardiovascular-mobile-health-unit-florence-ky-29/
LOCATION:St. Elizabeth Florence – Professional Office Building\, 4900 Houston Road\, Florence\, KY\, 41042\, United States
CATEGORIES:Heart & Vascular
GEO:39.0162024;-84.6304442
X-APPLE-STRUCTURED-LOCATION;VALUE=URI;X-ADDRESS=St. Elizabeth Florence – Professional Office Building 4900 Houston Road Florence KY 41042 United States;X-APPLE-RADIUS=500;X-TITLE=4900 Houston Road:geo:-84.6304442,39.0162024
END:VEVENT
END:VCALENDAR