BEGIN:VCALENDAR
VERSION:2.0
PRODID:-//St. Elizabeth Healthcare - ECPv6.15.20//NONSGML v1.0//EN
CALSCALE:GREGORIAN
METHOD:PUBLISH
X-WR-CALNAME:St. Elizabeth Healthcare
X-ORIGINAL-URL:https://www.stelizabeth.com
X-WR-CALDESC:Events for St. Elizabeth Healthcare
REFRESH-INTERVAL;VALUE=DURATION:PT1H
X-Robots-Tag:noindex
X-PUBLISHED-TTL:PT1H
BEGIN:VTIMEZONE
TZID:America/New_York
BEGIN:DAYLIGHT
TZOFFSETFROM:-0500
TZOFFSETTO:-0400
TZNAME:EDT
DTSTART:20240310T070000
END:DAYLIGHT
BEGIN:STANDARD
TZOFFSETFROM:-0400
TZOFFSETTO:-0500
TZNAME:EST
DTSTART:20241103T060000
END:STANDARD
BEGIN:DAYLIGHT
TZOFFSETFROM:-0500
TZOFFSETTO:-0400
TZNAME:EDT
DTSTART:20250309T070000
END:DAYLIGHT
BEGIN:STANDARD
TZOFFSETFROM:-0400
TZOFFSETTO:-0500
TZNAME:EST
DTSTART:20251102T060000
END:STANDARD
BEGIN:DAYLIGHT
TZOFFSETFROM:-0500
TZOFFSETTO:-0400
TZNAME:EDT
DTSTART:20260308T070000
END:DAYLIGHT
BEGIN:STANDARD
TZOFFSETFROM:-0400
TZOFFSETTO:-0500
TZNAME:EST
DTSTART:20261101T060000
END:STANDARD
END:VTIMEZONE
BEGIN:VEVENT
DTSTART;TZID=America/New_York:20251001T090000
DTEND;TZID=America/New_York:20251001T140000
DTSTAMP:20260421T072417
CREATED:20250903T212720Z
LAST-MODIFIED:20260111T014620Z
UID:10003018-1759309200-1759327200@www.stelizabeth.com
SUMMARY:CardioVascular Mobile Health Unit – Wilder\, KY
DESCRIPTION:The CardioVascular Mobile Health Unit (CVMHU) provides cardiovascular screenings at locations throughout the community. Screenings available are: \n\nPeripheral Artery Disease (PAD)\nStroke/Carotid Artery\nAbdominal Aortic Aneurysm (AAA)\nCardiac Age Heart Risk Assessment\n\nLearn more about screenings offered on the CVMHU. \nCost\nScreenings are $25 each\, all four for $100. \nAsk for your BONUS atrial fibrillation screening at no cost when you schedule. \nReservations\nReservations are required. Call (859) 301-9355 (WELL) to schedule an appointment.
URL:https://www.stelizabeth.com/event/cardiovascular-mobile-health-unit-wilder-ky-11/
LOCATION:Town and Country Sports and Health Club\, 1018 Town Drive\, Wilder\, KY\, 41076\, United States
CATEGORIES:Heart & Vascular
GEO:39.0194668;-84.4850969
X-APPLE-STRUCTURED-LOCATION;VALUE=URI;X-ADDRESS=Town and Country Sports and Health Club 1018 Town Drive Wilder KY 41076 United States;X-APPLE-RADIUS=500;X-TITLE=1018 Town Drive:geo:-84.4850969,39.0194668
END:VEVENT
BEGIN:VEVENT
DTSTART;TZID=America/New_York:20251002T100000
DTEND;TZID=America/New_York:20251002T150000
DTSTAMP:20260421T072417
CREATED:20250903T214011Z
LAST-MODIFIED:20260111T014611Z
UID:10003014-1759399200-1759417200@www.stelizabeth.com
SUMMARY:CardioVascular Mobile Health Unit – Covington\, KY
DESCRIPTION:The CardioVascular Mobile Health Unit (CVMHU) provides cardiovascular screenings at locations throughout the community. Screenings available are: \n\nPeripheral Artery Disease (PAD)\nStroke/Carotid Artery\nAbdominal Aortic Aneurysm (AAA)\nCardiac Age Heart Risk Assessment\n\nLearn more about screenings offered on the CVMHU. \nCost\nScreenings are $25 each\, all four for $100. \nAsk for your BONUS atrial fibrillation screening at no cost when you schedule. \nReservations\nReservations are required. Call (859) 301-9355 (WELL) to schedule an appointment.
URL:https://www.stelizabeth.com/event/cardiovascular-mobile-health-unit-covington-ky-12/
LOCATION:St. Charles Community\, 600 Farrell Drive\, Covington\, 41011\, United States
CATEGORIES:Heart & Vascular
GEO:39.0482379;-84.5287336
X-APPLE-STRUCTURED-LOCATION;VALUE=URI;X-ADDRESS=St. Charles Community 600 Farrell Drive Covington 41011 United States;X-APPLE-RADIUS=500;X-TITLE=600 Farrell Drive:geo:-84.5287336,39.0482379
END:VEVENT
BEGIN:VEVENT
DTSTART;TZID=America/New_York:20251003T083000
DTEND;TZID=America/New_York:20251003T140000
DTSTAMP:20260421T072417
CREATED:20250903T214356Z
LAST-MODIFIED:20260111T014503Z
UID:10003011-1759480200-1759500000@www.stelizabeth.com
SUMMARY:CardioVascular Mobile Health Unit – Florence\, KY
DESCRIPTION:The CardioVascular Mobile Health Unit (CVMHU) provides cardiovascular screenings at locations throughout the community. Screenings available are: \n\nPeripheral Artery Disease (PAD)\nStroke/Carotid Artery\nAbdominal Aortic Aneurysm (AAA)\nCardiac Age Heart Risk Assessment\n\nLearn more about screenings offered on the CVMHU. \nCost\nScreenings are $25 each\, all four for $100. \nAsk for your BONUS atrial fibrillation screening at no cost when you schedule. \nReservations\nReservations are required. Call (859) 301-9355 (WELL) to schedule an appointment.
URL:https://www.stelizabeth.com/event/cardiovascular-mobile-health-unit-florence-ky-32/
LOCATION:St. Elizabeth Florence – Professional Office Building\, 4900 Houston Road\, Florence\, KY\, 41042\, United States
CATEGORIES:Heart & Vascular
GEO:39.0162024;-84.6304442
X-APPLE-STRUCTURED-LOCATION;VALUE=URI;X-ADDRESS=St. Elizabeth Florence – Professional Office Building 4900 Houston Road Florence KY 41042 United States;X-APPLE-RADIUS=500;X-TITLE=4900 Houston Road:geo:-84.6304442,39.0162024
END:VEVENT
BEGIN:VEVENT
DTSTART;TZID=America/New_York:20251006T090000
DTEND;TZID=America/New_York:20251006T140000
DTSTAMP:20260421T072417
CREATED:20250903T214616Z
LAST-MODIFIED:20260111T014456Z
UID:10003009-1759741200-1759759200@www.stelizabeth.com
SUMMARY:CardioVascular Mobile Health Unit – Greendale\, IN
DESCRIPTION:The CardioVascular Mobile Health Unit (CVMHU) provides cardiovascular screenings at locations throughout the community. Screenings available are: \n\nPeripheral Artery Disease (PAD)\nStroke/Carotid Artery\nAbdominal Aortic Aneurysm (AAA)\nCardiac Age Heart Risk Assessment\n\nLearn more about screenings offered on the CVMHU. \nCost\nScreenings are $25 each\, all four for $100. \nAsk for your BONUS atrial fibrillation screening at no cost when you schedule. \nReservations\nReservations are required. Call (859) 301-9355 (WELL) to schedule an appointment.
URL:https://www.stelizabeth.com/event/cardiovascular-mobile-health-unit-greendale-in-13/
LOCATION:St. Elizabeth Physicians Greendale\, 1640 Flossie Drive\, Greendale\, IN\, 47025\, United States
CATEGORIES:Heart & Vascular
GEO:39.1256698;-84.843729
X-APPLE-STRUCTURED-LOCATION;VALUE=URI;X-ADDRESS=St. Elizabeth Physicians Greendale 1640 Flossie Drive Greendale IN 47025 United States;X-APPLE-RADIUS=500;X-TITLE=1640 Flossie Drive:geo:-84.843729,39.1256698
END:VEVENT
BEGIN:VEVENT
DTSTART;TZID=America/New_York:20251007T090000
DTEND;TZID=America/New_York:20251007T140000
DTSTAMP:20260421T072417
CREATED:20250903T214838Z
LAST-MODIFIED:20260111T014452Z
UID:10003007-1759827600-1759845600@www.stelizabeth.com
SUMMARY:CardioVascular Mobile Health Unit – Burlington\, KY
DESCRIPTION:The CardioVascular Mobile Health Unit (CVMHU) provides cardiovascular screenings at locations throughout the community. Screenings available are: \n\nPeripheral Artery Disease (PAD)\nStroke/Carotid Artery\nAbdominal Aortic Aneurysm (AAA)\nCardiac Age Heart Risk Assessment\n\nLearn more about screenings offered on the CVMHU. \nCost\nScreenings are $25 each\, all four for $100. \nAsk for your BONUS atrial fibrillation screening at no cost when you schedule. \nReservations\nReservations are required. Call (859) 301-9355 (WELL) to schedule an appointment.
URL:https://www.stelizabeth.com/event/cardiovascular-mobile-health-unit-burlington-ky-13/
LOCATION:RC Durr YMCA\, 5874 Veterans Way\, Burlington\, KY\, 41005\, United States
CATEGORIES:Heart & Vascular
GEO:39.0234646;-84.7079787
X-APPLE-STRUCTURED-LOCATION;VALUE=URI;X-ADDRESS=RC Durr YMCA 5874 Veterans Way Burlington KY 41005 United States;X-APPLE-RADIUS=500;X-TITLE=5874 Veterans Way:geo:-84.7079787,39.0234646
END:VEVENT
BEGIN:VEVENT
DTSTART;TZID=America/New_York:20251008T090000
DTEND;TZID=America/New_York:20251008T140000
DTSTAMP:20260421T072417
CREATED:20250903T215056Z
LAST-MODIFIED:20260111T014442Z
UID:10003003-1759914000-1759932000@www.stelizabeth.com
SUMMARY:CardioVascular Mobile Health Unit – Crescent Springs\, KY
DESCRIPTION:The CardioVascular Mobile Health Unit (CVMHU) provides cardiovascular screenings at locations throughout the community. Screenings available are: \n\nPeripheral Artery Disease (PAD)\nStroke/Carotid Artery\nAbdominal Aortic Aneurysm (AAA)\nCardiac Age Heart Risk Assessment\n\nLearn more about screenings offered on the CVMHU. \nCost\nScreenings are $25 each\, all four for $100. \nAsk for your BONUS atrial fibrillation screening at no cost when you schedule. \nReservations\nReservations are required. Call (859) 301-9355 (WELL) to schedule an appointment.
URL:https://www.stelizabeth.com/event/cardiovascular-mobile-health-unit-crescent-springs-ky-10/
LOCATION:Remke Markets – Buttermilk Pike\, 560 Clock Tower Way\, Crescent Springs\, KY\, 41017\, United States
CATEGORIES:Heart & Vascular
GEO:39.0522864;-84.5732153
X-APPLE-STRUCTURED-LOCATION;VALUE=URI;X-ADDRESS=Remke Markets – Buttermilk Pike 560 Clock Tower Way Crescent Springs KY 41017 United States;X-APPLE-RADIUS=500;X-TITLE=560 Clock Tower Way:geo:-84.5732153,39.0522864
END:VEVENT
BEGIN:VEVENT
DTSTART;TZID=America/New_York:20251009T090000
DTEND;TZID=America/New_York:20251009T140000
DTSTAMP:20260421T072417
CREATED:20250903T215249Z
LAST-MODIFIED:20260111T014439Z
UID:10003002-1760000400-1760018400@www.stelizabeth.com
SUMMARY:CardioVascular Mobile Health Unit – Newport\, KY
DESCRIPTION:The CardioVascular Mobile Health Unit (CVMHU) provides cardiovascular screenings at locations throughout the community. Screenings available are: \n\nPeripheral Artery Disease (PAD)\nStroke/Carotid Artery\nAbdominal Aortic Aneurysm (AAA)\nCardiac Age Heart Risk Assessment\n\nLearn more about screenings offered on the CVMHU. \nCost\nScreenings are $25 each\, all four for $100. \nAsk for your BONUS atrial fibrillation screening at no cost when you schedule. \nReservations\nReservations are required. Call (859) 301-9355 (WELL) to schedule an appointment.
URL:https://www.stelizabeth.com/event/cardiovascular-mobile-health-unit-newport-ky-12/
LOCATION:Kroger Marketplace Newport\, 130 Pavilion Parkway\, Newport\, KY\, 41071\, United States
CATEGORIES:Heart & Vascular
GEO:39.0901702;-84.4778335
X-APPLE-STRUCTURED-LOCATION;VALUE=URI;X-ADDRESS=Kroger Marketplace Newport 130 Pavilion Parkway Newport KY 41071 United States;X-APPLE-RADIUS=500;X-TITLE=130 Pavilion Parkway:geo:-84.4778335,39.0901702
END:VEVENT
BEGIN:VEVENT
DTSTART;TZID=America/New_York:20251013T090000
DTEND;TZID=America/New_York:20251013T150000
DTSTAMP:20260421T072417
CREATED:20250903T215514Z
LAST-MODIFIED:20260111T014429Z
UID:10002999-1760346000-1760367600@www.stelizabeth.com
SUMMARY:CardioVascular Mobile Health Unit – Covington\, KY
DESCRIPTION:The CardioVascular Mobile Health Unit (CVMHU) provides cardiovascular screenings at locations throughout the community. Screenings available are: \n\nPeripheral Artery Disease (PAD)\nStroke/Carotid Artery\nAbdominal Aortic Aneurysm (AAA)\nCardiac Age Heart Risk Assessment\n\nLearn more about screenings offered on the CVMHU. \nCost\nScreenings are $25 each\, all four for $100. \nAsk for your BONUS atrial fibrillation screening at no cost when you schedule. \nReservations\nReservations are required. Call (859) 301-9355 (WELL) to schedule an appointment.
URL:https://www.stelizabeth.com/event/cardiovascular-mobile-health-unit-covington-ky-13/
LOCATION:St. Elizabeth Healthcare – Covington\, 1500 James Simpson Junior Way\, Covington\, KY\, 41011\, United States
CATEGORIES:Heart & Vascular
GEO:39.0711158;-84.5177892
X-APPLE-STRUCTURED-LOCATION;VALUE=URI;X-ADDRESS=St. Elizabeth Healthcare – Covington 1500 James Simpson Junior Way Covington KY 41011 United States;X-APPLE-RADIUS=500;X-TITLE=1500 James Simpson Junior Way:geo:-84.5177892,39.0711158
END:VEVENT
BEGIN:VEVENT
DTSTART;TZID=America/New_York:20251014T090000
DTEND;TZID=America/New_York:20251014T150000
DTSTAMP:20260421T072417
CREATED:20250903T215644Z
LAST-MODIFIED:20260111T014426Z
UID:10002998-1760432400-1760454000@www.stelizabeth.com
SUMMARY:CardioVascular Mobile Health Unit – Florence\, KY
DESCRIPTION:The CardioVascular Mobile Health Unit (CVMHU) provides cardiovascular screenings at locations throughout the community. Screenings available are: \n\nPeripheral Artery Disease (PAD)\nStroke/Carotid Artery\nAbdominal Aortic Aneurysm (AAA)\nCardiac Age Heart Risk Assessment\n\nLearn more about screenings offered on the CVMHU. \nCost\nScreenings are $25 each\, all four for $100. \nAsk for your BONUS atrial fibrillation screening at no cost when you schedule. \nReservations\nReservations are required. Call (859) 301-9355 (WELL) to schedule an appointment.
URL:https://www.stelizabeth.com/event/cardiovascular-mobile-health-unit-florence-ky-33/
LOCATION:St. Elizabeth Florence – Professional Office Building\, 4900 Houston Road\, Florence\, KY\, 41042\, United States
CATEGORIES:Heart & Vascular
GEO:39.0162024;-84.6304442
X-APPLE-STRUCTURED-LOCATION;VALUE=URI;X-ADDRESS=St. Elizabeth Florence – Professional Office Building 4900 Houston Road Florence KY 41042 United States;X-APPLE-RADIUS=500;X-TITLE=4900 Houston Road:geo:-84.6304442,39.0162024
END:VEVENT
BEGIN:VEVENT
DTSTART;TZID=America/New_York:20251022T080000
DTEND;TZID=America/New_York:20251022T140000
DTSTAMP:20260421T072417
CREATED:20250903T220144Z
LAST-MODIFIED:20260111T014158Z
UID:10002984-1761120000-1761141600@www.stelizabeth.com
SUMMARY:CardioVascular Mobile Health Unit – Highland Heights\, KY
DESCRIPTION:The CardioVascular Mobile Health Unit (CVMHU) provides cardiovascular screenings at locations throughout the community. Screenings available are: \n\nPeripheral Artery Disease (PAD)\nStroke/Carotid Artery\nAbdominal Aortic Aneurysm (AAA)\nCardiac Age Heart Risk Assessment\n\nLearn more about screenings offered on the CVMHU. \nCost\nScreenings are $25 each\, all four for $100. \nAsk for your BONUS atrial fibrillation screening at no cost when you schedule. \nReservations\nReservations are required. Call (859) 301-9355 (WELL) to schedule an appointment.
URL:https://www.stelizabeth.com/event/cardiovascular-mobile-health-unit-highland-heights-ky-3/
LOCATION:NKU Griffin Hall\, Parking Lot C\, 500 Louie B Nunn Drive\, Highland Heights\, 41099\, United States
CATEGORIES:Heart & Vascular
GEO:39.0319994;-84.4591252
X-APPLE-STRUCTURED-LOCATION;VALUE=URI;X-ADDRESS=NKU Griffin Hall Parking Lot C 500 Louie B Nunn Drive Highland Heights 41099 United States;X-APPLE-RADIUS=500;X-TITLE=500 Louie B Nunn Drive:geo:-84.4591252,39.0319994
END:VEVENT
BEGIN:VEVENT
DTSTART;TZID=America/New_York:20251023T100000
DTEND;TZID=America/New_York:20251023T160000
DTSTAMP:20260421T072417
CREATED:20250903T220429Z
LAST-MODIFIED:20260111T014150Z
UID:10002982-1761213600-1761235200@www.stelizabeth.com
SUMMARY:CardioVascular Mobile Health Unit – Highland Heights\, KY
DESCRIPTION:The CardioVascular Mobile Health Unit (CVMHU) provides cardiovascular screenings at locations throughout the community. Screenings available are: \n\nPeripheral Artery Disease (PAD)\nStroke/Carotid Artery\nAbdominal Aortic Aneurysm (AAA)\nCardiac Age Heart Risk Assessment\n\nLearn more about screenings offered on the CVMHU. \nCost\nScreenings are $25 each\, all four for $100. \nAsk for your BONUS atrial fibrillation screening at no cost when you schedule. \nReservations\nReservations are required. Call (859) 301-9355 (WELL) to schedule an appointment.
URL:https://www.stelizabeth.com/event/cardiovascular-mobile-health-unit-highland-heights-ky-4/
LOCATION:NKU Griffin Hall\, Parking Lot C\, 500 Louie B Nunn Drive\, Highland Heights\, 41099\, United States
CATEGORIES:Heart & Vascular
GEO:39.0319994;-84.4591252
X-APPLE-STRUCTURED-LOCATION;VALUE=URI;X-ADDRESS=NKU Griffin Hall Parking Lot C 500 Louie B Nunn Drive Highland Heights 41099 United States;X-APPLE-RADIUS=500;X-TITLE=500 Louie B Nunn Drive:geo:-84.4591252,39.0319994
END:VEVENT
BEGIN:VEVENT
DTSTART;TZID=America/New_York:20251024T090000
DTEND;TZID=America/New_York:20251024T143000
DTSTAMP:20260421T072417
CREATED:20250903T220610Z
LAST-MODIFIED:20260111T014143Z
UID:10002979-1761296400-1761316200@www.stelizabeth.com
SUMMARY:CardioVascular Mobile Health Unit – Florence\, KY
DESCRIPTION:The CardioVascular Mobile Health Unit (CVMHU) provides cardiovascular screenings at locations throughout the community. Screenings available are: \n\nPeripheral Artery Disease (PAD)\nStroke/Carotid Artery\nAbdominal Aortic Aneurysm (AAA)\nCardiac Age Heart Risk Assessment\n\nLearn more about screenings offered on the CVMHU. \nCost\nScreenings are $25 each\, all four for $100. \nAsk for your BONUS atrial fibrillation screening at no cost when you schedule. \nReservations\nReservations are required. Call (859) 301-9355 (WELL) to schedule an appointment.
URL:https://www.stelizabeth.com/event/cardiovascular-mobile-health-unit-florence-ky-34/
LOCATION:St. Elizabeth Florence – Professional Office Building\, 4900 Houston Road\, Florence\, KY\, 41042\, United States
CATEGORIES:Heart & Vascular
GEO:39.0162024;-84.6304442
X-APPLE-STRUCTURED-LOCATION;VALUE=URI;X-ADDRESS=St. Elizabeth Florence – Professional Office Building 4900 Houston Road Florence KY 41042 United States;X-APPLE-RADIUS=500;X-TITLE=4900 Houston Road:geo:-84.6304442,39.0162024
END:VEVENT
BEGIN:VEVENT
DTSTART;TZID=America/New_York:20251025T103000
DTEND;TZID=America/New_York:20251025T143000
DTSTAMP:20260421T072417
CREATED:20250904T000158Z
LAST-MODIFIED:20260111T014017Z
UID:10002977-1761388200-1761402600@www.stelizabeth.com
SUMMARY:CardioVascular Mobile Health Unit — Crestview Hills\, KY
DESCRIPTION:The CardioVascular Mobile Health Unit (CVMHU) provides cardiovascular screenings at locations throughout the community. Screenings available are: \n\nPeripheral Artery Disease (PAD)\nStroke/Carotid Artery\nAbdominal Aortic Aneurysm (AAA)\nCardiac Age Heart Risk Assessment\n\nLearn more about screenings offered on the CVMHU. \nCost\nScreenings are $25 each\, all four for $100. \nAsk for your BONUS atrial fibrillation screening at no cost when you schedule. \nReservations\nReservations are required. Call (859) 301-9355 (WELL) to schedule an appointment.
URL:https://www.stelizabeth.com/event/cardiovascular-mobile-health-unit-crestview-hills-ky-15/
LOCATION:Crestview Hills Town Center\, 2791 Town Center Boulevard\, Crestview Hills\, KY\, 41017\, United States
CATEGORIES:Heart & Vascular
GEO:39.0240013;-84.5794827
X-APPLE-STRUCTURED-LOCATION;VALUE=URI;X-ADDRESS=Crestview Hills Town Center 2791 Town Center Boulevard Crestview Hills KY 41017 United States;X-APPLE-RADIUS=500;X-TITLE=2791 Town Center Boulevard:geo:-84.5794827,39.0240013
END:VEVENT
BEGIN:VEVENT
DTSTART;TZID=America/New_York:20251028T090000
DTEND;TZID=America/New_York:20251028T140000
DTSTAMP:20260421T072417
CREATED:20250904T000417Z
LAST-MODIFIED:20260111T013954Z
UID:10002973-1761642000-1761660000@www.stelizabeth.com
SUMMARY:CardioVascular Mobile Health Unit — Greendale\, IN
DESCRIPTION:The CardioVascular Mobile Health Unit (CVMHU) provides cardiovascular screenings at locations throughout the community. Screenings available are: \n\nPeripheral Artery Disease (PAD)\nStroke/Carotid Artery\nAbdominal Aortic Aneurysm (AAA)\nCardiac Age Heart Risk Assessment\n\nLearn more about screenings offered on the CVMHU. \nCost\nScreenings are $25 each\, all four for $100. \nAsk for your BONUS atrial fibrillation screening at no cost when you schedule. \nReservations\nReservations are required. Call (859) 301-9355 (WELL) to schedule an appointment.
URL:https://www.stelizabeth.com/event/cardiovascular-mobile-health-unit-greendale-in-14/
LOCATION:St. Elizabeth Physicians Greendale\, 1640 Flossie Drive\, Greendale\, IN\, 47025\, United States
CATEGORIES:Heart & Vascular
GEO:39.1256698;-84.843729
X-APPLE-STRUCTURED-LOCATION;VALUE=URI;X-ADDRESS=St. Elizabeth Physicians Greendale 1640 Flossie Drive Greendale IN 47025 United States;X-APPLE-RADIUS=500;X-TITLE=1640 Flossie Drive:geo:-84.843729,39.1256698
END:VEVENT
BEGIN:VEVENT
DTSTART;TZID=America/New_York:20251029T090000
DTEND;TZID=America/New_York:20251029T140000
DTSTAMP:20260421T072417
CREATED:20250904T000538Z
LAST-MODIFIED:20260111T013950Z
UID:10002969-1761728400-1761746400@www.stelizabeth.com
SUMMARY:CardioVascular Mobile Health Unit — Cold Spring\, KY
DESCRIPTION:The CardioVascular Mobile Health Unit (CVMHU) provides cardiovascular screenings at locations throughout the community. Screenings available are: \n\nPeripheral Artery Disease (PAD)\nStroke/Carotid Artery\nAbdominal Aortic Aneurysm (AAA)\nCardiac Age Heart Risk Assessment\n\nLearn more about screenings offered on the CVMHU. \nCost\nScreenings are $25 each\, all four for $100. \nAsk for your BONUS atrial fibrillation screening at no cost when you schedule. \nReservations\nReservations are required. Call (859) 301-9355 (WELL) to schedule an appointment.
URL:https://www.stelizabeth.com/event/cardiovascular-mobile-health-unit-cold-spring-ky-7/
LOCATION:Kroger Cold Spring – Crossroads\, 375 Crossroads Boulevard\, Cold Spring\, KY\, 41076\, United States
CATEGORIES:Heart & Vascular
END:VEVENT
BEGIN:VEVENT
DTSTART;TZID=America/New_York:20251030T083000
DTEND;TZID=America/New_York:20251030T143000
DTSTAMP:20260421T072417
CREATED:20250904T000636Z
LAST-MODIFIED:20260111T013945Z
UID:10002967-1761813000-1761834600@www.stelizabeth.com
SUMMARY:CardioVascular Mobile Health Unit — Florence\, KY
DESCRIPTION:The CardioVascular Mobile Health Unit (CVMHU) provides cardiovascular screenings at locations throughout the community. Screenings available are: \n\nPeripheral Artery Disease (PAD)\nStroke/Carotid Artery\nAbdominal Aortic Aneurysm (AAA)\nCardiac Age Heart Risk Assessment\n\nLearn more about screenings offered on the CVMHU. \nCost\nScreenings are $25 each\, all four for $100. \nAsk for your BONUS atrial fibrillation screening at no cost when you schedule. \nReservations\nReservations are required. Call (859) 301-9355 (WELL) to schedule an appointment.
URL:https://www.stelizabeth.com/event/cardiovascular-mobile-health-unit-florence-ky-35/
LOCATION:St. Elizabeth Florence – Professional Office Building\, 4900 Houston Road\, Florence\, KY\, 41042\, United States
CATEGORIES:Heart & Vascular
GEO:39.0162024;-84.6304442
X-APPLE-STRUCTURED-LOCATION;VALUE=URI;X-ADDRESS=St. Elizabeth Florence – Professional Office Building 4900 Houston Road Florence KY 41042 United States;X-APPLE-RADIUS=500;X-TITLE=4900 Houston Road:geo:-84.6304442,39.0162024
END:VEVENT
BEGIN:VEVENT
DTSTART;TZID=America/New_York:20251031T083000
DTEND;TZID=America/New_York:20251031T140000
DTSTAMP:20260421T072417
CREATED:20250904T000812Z
LAST-MODIFIED:20260111T013933Z
UID:10002962-1761899400-1761919200@www.stelizabeth.com
SUMMARY:CardioVascular Mobile Health Unit — Edgewood\, KY
DESCRIPTION:The CardioVascular Mobile Health Unit (CVMHU) provides cardiovascular screenings at locations throughout the community. Screenings available are: \n\nPeripheral Artery Disease (PAD)\nStroke/Carotid Artery\nAbdominal Aortic Aneurysm (AAA)\nCardiac Age Heart Risk Assessment\n\nLearn more about screenings offered on the CVMHU. \nCost\nScreenings are $25 each\, all four for $100. \nAsk for your BONUS atrial fibrillation screening at no cost when you schedule. \nReservations\nReservations are required. Call (859) 301-9355 (WELL) to schedule an appointment.
URL:https://www.stelizabeth.com/event/cardiovascular-mobile-health-unit-edgewood-ky-13/
LOCATION:St. Elizabeth Florence Wormald HVI Building\, 711 Medical Village Drive\, Edgewood\, KY 41017\, Edgewood\, KY\, 41017\, United States
CATEGORIES:Heart & Vascular
GEO:39.0098818;-84.5652871
X-APPLE-STRUCTURED-LOCATION;VALUE=URI;X-ADDRESS=St. Elizabeth Florence Wormald HVI Building 711 Medical Village Drive Edgewood KY 41017 Edgewood KY 41017 United States;X-APPLE-RADIUS=500;X-TITLE=711 Medical Village Drive\, Edgewood\, KY 41017:geo:-84.5652871,39.0098818
END:VEVENT
END:VCALENDAR