BEGIN:VCALENDAR
VERSION:2.0
PRODID:-//St. Elizabeth Healthcare - ECPv6.15.20//NONSGML v1.0//EN
CALSCALE:GREGORIAN
METHOD:PUBLISH
X-WR-CALNAME:St. Elizabeth Healthcare
X-ORIGINAL-URL:https://www.stelizabeth.com
X-WR-CALDESC:Events for St. Elizabeth Healthcare
REFRESH-INTERVAL;VALUE=DURATION:PT1H
X-Robots-Tag:noindex
X-PUBLISHED-TTL:PT1H
BEGIN:VTIMEZONE
TZID:America/New_York
BEGIN:DAYLIGHT
TZOFFSETFROM:-0500
TZOFFSETTO:-0400
TZNAME:EDT
DTSTART:20240310T070000
END:DAYLIGHT
BEGIN:STANDARD
TZOFFSETFROM:-0400
TZOFFSETTO:-0500
TZNAME:EST
DTSTART:20241103T060000
END:STANDARD
BEGIN:DAYLIGHT
TZOFFSETFROM:-0500
TZOFFSETTO:-0400
TZNAME:EDT
DTSTART:20250309T070000
END:DAYLIGHT
BEGIN:STANDARD
TZOFFSETFROM:-0400
TZOFFSETTO:-0500
TZNAME:EST
DTSTART:20251102T060000
END:STANDARD
BEGIN:DAYLIGHT
TZOFFSETFROM:-0500
TZOFFSETTO:-0400
TZNAME:EDT
DTSTART:20260308T070000
END:DAYLIGHT
BEGIN:STANDARD
TZOFFSETFROM:-0400
TZOFFSETTO:-0500
TZNAME:EST
DTSTART:20261101T060000
END:STANDARD
END:VTIMEZONE
BEGIN:VEVENT
DTSTART;TZID=America/New_York:20250429T090000
DTEND;TZID=America/New_York:20250429T110000
DTSTAMP:20260425T120409
CREATED:20250325T234509Z
LAST-MODIFIED:20260111T055258Z
UID:10003279-1745917200-1745924400@www.stelizabeth.com
SUMMARY:Mobile Mammography Van - Ft Mitchell\, KY
DESCRIPTION:The American Cancer Society recommends an annual screening mammogram starting at the age of 40. Financial Assistance available to those that qualify. \nDon’t miss the opportunity to receive this important health test in the comfort and privacy of the St. Elizabeth mobile van. \nSchedule on MyChart today or call (877) 424-5750 to make an appointment. Space is limited. \nFollowing the Society of Breast Imaging guidelines\, it is recommended to try to schedule your screening mammogram before your first COVID-19 vaccine dose or at least four weeks after your second vaccine dose. \nFollow the steps below to schedule on MyChart: \n\nSelect “Visits/Appointments” from your MyChart home page.\nSchedule an appointment with “Screening Mammogram” as the reason for visit and answer subsequent questions\nChoose “Mobile Van” as the preferred site.\nChoose your preferred location to view the date(s) and time(s) that the van is available at that site.\nIf your location is not listed\, select “Mobile Mammography Other Location” and select an available appointment on the date and time that the van will be visiting your preferred location.\nSelect time and click “Schedule” to confirm your appointment.
URL:https://www.stelizabeth.com/event/mobile-mammography-van-ft-mitchell-ky-5/
LOCATION:St. Elizabeth Physicians – Ft. Mitchell\, 2300 CHamber Drive\, Ft. Mitchell\, KY\, 41017\, United States
CATEGORIES:Women's Health
END:VEVENT
BEGIN:VEVENT
DTSTART;TZID=America/New_York:20250428T180000
DTEND;TZID=America/New_York:20250428T190000
DTSTAMP:20260425T120409
CREATED:20241230T201213Z
LAST-MODIFIED:20260111T055302Z
UID:10003280-1745863200-1745866800@www.stelizabeth.com
SUMMARY:Sibling Class April 2025
DESCRIPTION:
URL:https://www.stelizabeth.com/event/sibling-class-april-2025/
LOCATION:St. Elizabeth Healthcare – Edgewood\, KY\, 1 Medical Center Drive\, Edgewood\, KY\, 41017\, United States
CATEGORIES:Birthing Services
GEO:39.0186719;-84.581888
X-APPLE-STRUCTURED-LOCATION;VALUE=URI;X-ADDRESS=St. Elizabeth Healthcare – Edgewood KY 1 Medical Center Drive Edgewood KY 41017 United States;X-APPLE-RADIUS=500;X-TITLE=1 Medical Center Drive:geo:-84.581888,39.0186719
END:VEVENT
BEGIN:VEVENT
DTSTART;TZID=America/New_York:20250428T140000
DTEND;TZID=America/New_York:20250428T160000
DTSTAMP:20260425T120409
CREATED:20250325T234514Z
LAST-MODIFIED:20260111T055305Z
UID:10003281-1745848800-1745856000@www.stelizabeth.com
SUMMARY:Mobile Mammography Van - Florence\, KY
DESCRIPTION:The American Cancer Society recommends an annual screening mammogram starting at the age of 40. Financial Assistance available to those that qualify. \nDon’t miss the opportunity to receive this important health test in the comfort and privacy of the St. Elizabeth mobile van. \nSchedule on MyChart today or call (877) 424-5750 to make an appointment. Space is limited. \nFollowing the Society of Breast Imaging guidelines\, it is recommended to try to schedule your screening mammogram before your first COVID-19 vaccine dose or at least four weeks after your second vaccine dose. \nFollow the steps below to schedule on MyChart: \n\nSelect “Visits/Appointments” from your MyChart home page.\nSchedule an appointment with “Screening Mammogram” as the reason for visit and answer subsequent questions\nChoose “Mobile Van” as the preferred site.\nChoose your preferred location to view the date(s) and time(s) that the van is available at that site.\nIf your location is not listed\, select “Mobile Mammography Other Location” and select an available appointment on the date and time that the van will be visiting your preferred location.\nSelect time and click “Schedule” to confirm your appointment.
URL:https://www.stelizabeth.com/event/mobile-mammography-van-florence-ky-21/
LOCATION:Boone County Highschool\, 7056 Burlington Pike\, Florence\, 41042\, United States
CATEGORIES:Women's Health
END:VEVENT
BEGIN:VEVENT
DTSTART;TZID=America/New_York:20250428T090000
DTEND;TZID=America/New_York:20250428T113000
DTSTAMP:20260425T120409
CREATED:20250325T234518Z
LAST-MODIFIED:20260111T055308Z
UID:10003282-1745830800-1745839800@www.stelizabeth.com
SUMMARY:Mobile Mammography Van - Owenton\, KY
DESCRIPTION:The American Cancer Society recommends an annual screening mammogram starting at the age of 40. Financial Assistance available to those that qualify. \nDon’t miss the opportunity to receive this important health test in the comfort and privacy of the St. Elizabeth mobile van. \nSchedule on MyChart today or call (877) 424-5750 to make an appointment. Space is limited. \nFollowing the Society of Breast Imaging guidelines\, it is recommended to try to schedule your screening mammogram before your first COVID-19 vaccine dose or at least four weeks after your second vaccine dose. \nFollow the steps below to schedule on MyChart: \n\nSelect “Visits/Appointments” from your MyChart home page.\nSchedule an appointment with “Screening Mammogram” as the reason for visit and answer subsequent questions\nChoose “Mobile Van” as the preferred site.\nChoose your preferred location to view the date(s) and time(s) that the van is available at that site.\nIf your location is not listed\, select “Mobile Mammography Other Location” and select an available appointment on the date and time that the van will be visiting your preferred location.\nSelect time and click “Schedule” to confirm your appointment.
URL:https://www.stelizabeth.com/event/mobile-mammography-van-owenton-ky-6/
LOCATION:TRIAD – Owenton\, 120 Progress Way\, Owenton\, KY\, 40359\, United States
CATEGORIES:Women's Health
GEO:38.5517175;-84.8432516
X-APPLE-STRUCTURED-LOCATION;VALUE=URI;X-ADDRESS=TRIAD – Owenton 120 Progress Way Owenton KY 40359 United States;X-APPLE-RADIUS=500;X-TITLE=120 Progress Way:geo:-84.8432516,38.5517175
END:VEVENT
BEGIN:VEVENT
DTSTART;TZID=America/New_York:20250425T090000
DTEND;TZID=America/New_York:20250425T140000
DTSTAMP:20260425T120409
CREATED:20250114T012153Z
LAST-MODIFIED:20260111T055311Z
UID:10003283-1745571600-1745589600@www.stelizabeth.com
SUMMARY:CardioVascular Mobile Health Unit – Hebron\, KY
DESCRIPTION:The CardioVascular Mobile Health Unit (CVMHU) provides cardiovascular screenings at locations throughout the community. Screenings available are: \n\nPeripheral Artery Disease (PAD)\nStroke/Carotid Artery\nAbdominal Aortic Aneurysm (AAA)\nCardiac Age Heart Risk Assessment\n\nLearn more about screenings offered on the CVMHU. \nCost\nScreenings are $25 each\, all four for $100. \nAsk for your BONUS atrial fibrillation screening at no cost when you schedule. \nReservations\nReservations are required. Call (859) 301-9355 (WELL) to schedule an appointment.
URL:https://www.stelizabeth.com/event/cardiovascular-mobile-health-unit-hebron-ky/
LOCATION:Kroger Marketplace Hebron\, 3105 North Bend Road\, Hebron\, 41047\, United States
CATEGORIES:Heart & Vascular
END:VEVENT
END:VCALENDAR