BEGIN:VCALENDAR
VERSION:2.0
PRODID:-//St. Elizabeth Healthcare - ECPv6.15.20//NONSGML v1.0//EN
CALSCALE:GREGORIAN
METHOD:PUBLISH
X-ORIGINAL-URL:https://www.stelizabeth.com
X-WR-CALDESC:Events for St. Elizabeth Healthcare
REFRESH-INTERVAL;VALUE=DURATION:PT1H
X-Robots-Tag:noindex
X-PUBLISHED-TTL:PT1H
BEGIN:VTIMEZONE
TZID:America/New_York
BEGIN:DAYLIGHT
TZOFFSETFROM:-0500
TZOFFSETTO:-0400
TZNAME:EDT
DTSTART:20250309T070000
END:DAYLIGHT
BEGIN:STANDARD
TZOFFSETFROM:-0400
TZOFFSETTO:-0500
TZNAME:EST
DTSTART:20251102T060000
END:STANDARD
BEGIN:DAYLIGHT
TZOFFSETFROM:-0500
TZOFFSETTO:-0400
TZNAME:EDT
DTSTART:20260308T070000
END:DAYLIGHT
BEGIN:STANDARD
TZOFFSETFROM:-0400
TZOFFSETTO:-0500
TZNAME:EST
DTSTART:20261101T060000
END:STANDARD
BEGIN:DAYLIGHT
TZOFFSETFROM:-0500
TZOFFSETTO:-0400
TZNAME:EDT
DTSTART:20270314T070000
END:DAYLIGHT
BEGIN:STANDARD
TZOFFSETFROM:-0400
TZOFFSETTO:-0500
TZNAME:EST
DTSTART:20271107T060000
END:STANDARD
END:VTIMEZONE
BEGIN:VEVENT
DTSTART;TZID=America/New_York:20260819T090000
DTEND;TZID=America/New_York:20260819T140000
DTSTAMP:20260421T024650
CREATED:20260420T181726Z
LAST-MODIFIED:20260420T181726Z
UID:10004396-1787130000-1787148000@www.stelizabeth.com
SUMMARY:CardioVascular Mobile Health Unit — Edgewood\, KY
DESCRIPTION:The CardioVascular Mobile Health Unit (CVMHU) provides cardiovascular screenings at locations throughout the community. Screenings available are: \n\nPeripheral Artery Disease (PAD)\nStroke/Carotid Artery\nAbdominal Aortic Aneurysm (AAA)\nCardiac Age Heart Risk Assessment\n\nLearn more about screenings offered on the CVMHU. \nCost\nScreenings are $25 each\, all four for $100. \nAsk for your BONUS atrial fibrillation screening at no cost when you schedule. \nReservations\nReservations are required. Call (859) 301-9355 (WELL) to schedule an appointment.
URL:https://www.stelizabeth.com/event/cardiovascular-mobile-health-unit-edgewood-ky-6/
LOCATION:St. Elizabeth Florence Wormald HVI Building\, 711 Medical Village Drive\, Edgewood\, KY 41017\, Edgewood\, KY\, 41017\, United States
CATEGORIES:Heart & Vascular
GEO:39.0098818;-84.5652871
X-APPLE-STRUCTURED-LOCATION;VALUE=URI;X-ADDRESS=St. Elizabeth Florence Wormald HVI Building 711 Medical Village Drive Edgewood KY 41017 Edgewood KY 41017 United States;X-APPLE-RADIUS=500;X-TITLE=711 Medical Village Drive\, Edgewood\, KY 41017:geo:-84.5652871,39.0098818
END:VEVENT
BEGIN:VEVENT
DTSTART;TZID=America/New_York:20260819T120000
DTEND;TZID=America/New_York:20260819T140000
DTSTAMP:20260421T024650
CREATED:20260206T220807Z
LAST-MODIFIED:20260206T220807Z
UID:10004020-1787140800-1787148000@www.stelizabeth.com
SUMMARY:Oncology Support Services: Services in Infusion: Peaceful Pause - Dearborn County
DESCRIPTION:Peaceful Pause\nBreathing exercises\, meditation\, and optional prayer to promote calm during infusion. \nVisit stelizabeth.com/integrative-oncology or call 859-301-4157 for more info.
URL:https://www.stelizabeth.com/event/oncology-support-services-services-in-infusion-peaceful-pause-dearborn-county-3/2026-08-19/
LOCATION:St. Elizabeth Healthcare – Dearborn\, 600 Wilson Creek Rd.\, Lawrenceburg\, IN\, 47025\, United States
CATEGORIES:Integrative Oncology
GEO:39.1109075;-84.8831751
X-APPLE-STRUCTURED-LOCATION;VALUE=URI;X-ADDRESS=St. Elizabeth Healthcare – Dearborn 600 Wilson Creek Rd. Lawrenceburg IN 47025 United States;X-APPLE-RADIUS=500;X-TITLE=600 Wilson Creek Rd.:geo:-84.8831751,39.1109075
END:VEVENT
END:VCALENDAR