BEGIN:VCALENDAR
VERSION:2.0
PRODID:-//St. Elizabeth Healthcare - ECPv6.15.20//NONSGML v1.0//EN
CALSCALE:GREGORIAN
METHOD:PUBLISH
X-ORIGINAL-URL:https://www.stelizabeth.com
X-WR-CALDESC:Events for St. Elizabeth Healthcare
REFRESH-INTERVAL;VALUE=DURATION:PT1H
X-Robots-Tag:noindex
X-PUBLISHED-TTL:PT1H
BEGIN:VTIMEZONE
TZID:America/New_York
BEGIN:DAYLIGHT
TZOFFSETFROM:-0500
TZOFFSETTO:-0400
TZNAME:EDT
DTSTART:20250309T070000
END:DAYLIGHT
BEGIN:STANDARD
TZOFFSETFROM:-0400
TZOFFSETTO:-0500
TZNAME:EST
DTSTART:20251102T060000
END:STANDARD
BEGIN:DAYLIGHT
TZOFFSETFROM:-0500
TZOFFSETTO:-0400
TZNAME:EDT
DTSTART:20260308T070000
END:DAYLIGHT
BEGIN:STANDARD
TZOFFSETFROM:-0400
TZOFFSETTO:-0500
TZNAME:EST
DTSTART:20261101T060000
END:STANDARD
BEGIN:DAYLIGHT
TZOFFSETFROM:-0500
TZOFFSETTO:-0400
TZNAME:EDT
DTSTART:20270314T070000
END:DAYLIGHT
BEGIN:STANDARD
TZOFFSETFROM:-0400
TZOFFSETTO:-0500
TZNAME:EST
DTSTART:20271107T060000
END:STANDARD
END:VTIMEZONE
BEGIN:VEVENT
DTSTART;TZID=America/New_York:20260723T090000
DTEND;TZID=America/New_York:20260723T140000
DTSTAMP:20260419T182257
CREATED:20260406T171323Z
LAST-MODIFIED:20260406T171323Z
UID:10004348-1784797200-1784815200@www.stelizabeth.com
SUMMARY:CardioVascular Mobile Health Unit — Newport\, KY
DESCRIPTION:The CardioVascular Mobile Health Unit (CVMHU) provides cardiovascular screenings at locations throughout the community. Screenings available are: \n\nPeripheral Artery Disease (PAD)\nStroke/Carotid Artery\nAbdominal Aortic Aneurysm (AAA)\nCardiac Age Heart Risk Assessment\n\nLearn more about screenings offered on the CVMHU. \nCost\nScreenings are $25 each\, all four for $100. \nAsk for your BONUS atrial fibrillation screening at no cost when you schedule. \nReservations\nReservations are required. Call (859) 301-9355 (WELL) to schedule an appointment.
URL:https://www.stelizabeth.com/event/cardiovascular-mobile-health-unit-newport-ky-3/
LOCATION:Kroger Marketplace Newport\, 130 Pavilion Parkway\, Newport\, KY\, 41071\, United States
CATEGORIES:Heart & Vascular
GEO:39.0901702;-84.4778335
X-APPLE-STRUCTURED-LOCATION;VALUE=URI;X-ADDRESS=Kroger Marketplace Newport 130 Pavilion Parkway Newport KY 41071 United States;X-APPLE-RADIUS=500;X-TITLE=130 Pavilion Parkway:geo:-84.4778335,39.0901702
END:VEVENT
BEGIN:VEVENT
DTSTART;TZID=America/New_York:20260723T110000
DTEND;TZID=America/New_York:20260723T130000
DTSTAMP:20260419T182257
CREATED:20260206T213909Z
LAST-MODIFIED:20260206T213909Z
UID:10003867-1784804400-1784811600@www.stelizabeth.com
SUMMARY:Oncology Support Services: Treat Yourself Days - Dearborn County
DESCRIPTION:Treat Yourself Days\nTreat Yourself Days at our cancer care locations feature cooking demos and tastings\, crafts and activities (w/ CSC)\, pet therapy\, and movement sessions to help you relax and recharge. \nVisit stelizabeth.com/integrative-oncology or call 859-301-4157 for more info.
URL:https://www.stelizabeth.com/event/oncology-support-services-treat-yourself-days-dearborn-county/2026-07-23/
LOCATION:St. Elizabeth Healthcare – Dearborn\, 600 Wilson Creek Rd.\, Lawrenceburg\, IN\, 47025\, United States
CATEGORIES:Integrative Oncology
GEO:39.1109075;-84.8831751
X-APPLE-STRUCTURED-LOCATION;VALUE=URI;X-ADDRESS=St. Elizabeth Healthcare – Dearborn 600 Wilson Creek Rd. Lawrenceburg IN 47025 United States;X-APPLE-RADIUS=500;X-TITLE=600 Wilson Creek Rd.:geo:-84.8831751,39.1109075
END:VEVENT
END:VCALENDAR