BEGIN:VCALENDAR
VERSION:2.0
PRODID:-//St. Elizabeth Healthcare - ECPv6.15.20//NONSGML v1.0//EN
CALSCALE:GREGORIAN
METHOD:PUBLISH
X-ORIGINAL-URL:https://www.stelizabeth.com
X-WR-CALDESC:Events for St. Elizabeth Healthcare
REFRESH-INTERVAL;VALUE=DURATION:PT1H
X-Robots-Tag:noindex
X-PUBLISHED-TTL:PT1H
BEGIN:VTIMEZONE
TZID:America/New_York
BEGIN:DAYLIGHT
TZOFFSETFROM:-0500
TZOFFSETTO:-0400
TZNAME:EDT
DTSTART:20250309T070000
END:DAYLIGHT
BEGIN:STANDARD
TZOFFSETFROM:-0400
TZOFFSETTO:-0500
TZNAME:EST
DTSTART:20251102T060000
END:STANDARD
BEGIN:DAYLIGHT
TZOFFSETFROM:-0500
TZOFFSETTO:-0400
TZNAME:EDT
DTSTART:20260308T070000
END:DAYLIGHT
BEGIN:STANDARD
TZOFFSETFROM:-0400
TZOFFSETTO:-0500
TZNAME:EST
DTSTART:20261101T060000
END:STANDARD
BEGIN:DAYLIGHT
TZOFFSETFROM:-0500
TZOFFSETTO:-0400
TZNAME:EDT
DTSTART:20270314T070000
END:DAYLIGHT
BEGIN:STANDARD
TZOFFSETFROM:-0400
TZOFFSETTO:-0500
TZNAME:EST
DTSTART:20271107T060000
END:STANDARD
END:VTIMEZONE
BEGIN:VEVENT
DTSTART;TZID=America/New_York:20260609T090000
DTEND;TZID=America/New_York:20260609T140000
DTSTAMP:20260423T015437
CREATED:20260401T171937Z
LAST-MODIFIED:20260401T171937Z
UID:10004306-1780995600-1781013600@www.stelizabeth.com
SUMMARY:CardioVascular Mobile Health Unit — Crestview Hill\, KY
DESCRIPTION:The CardioVascular Mobile Health Unit (CVMHU) provides cardiovascular screenings at locations throughout the community. Screenings available are: \n\nPeripheral Artery Disease (PAD)\nStroke/Carotid Artery\nAbdominal Aortic Aneurysm (AAA)\nCardiac Age Heart Risk Assessment\n\nLearn more about screenings offered on the CVMHU. \nCost\nScreenings are $25 each\, all four for $100. \nAsk for your BONUS atrial fibrillation screening at no cost when you schedule. \nReservations\nReservations are required. Call (859) 301-9355 (WELL) to schedule an appointment.
URL:https://www.stelizabeth.com/event/cardiovascular-mobile-health-unit-crestview-hill-ky-9/
LOCATION:Crestview Hills Town Center\, 2791 Town Center Boulevard\, Crestview Hills\, KY\, 41017\, United States
CATEGORIES:Heart & Vascular
GEO:39.0240013;-84.5794827
X-APPLE-STRUCTURED-LOCATION;VALUE=URI;X-ADDRESS=Crestview Hills Town Center 2791 Town Center Boulevard Crestview Hills KY 41017 United States;X-APPLE-RADIUS=500;X-TITLE=2791 Town Center Boulevard:geo:-84.5794827,39.0240013
END:VEVENT
BEGIN:VEVENT
DTSTART;TZID=America/New_York:20260609T103000
DTEND;TZID=America/New_York:20260609T113000
DTSTAMP:20260423T015437
CREATED:20260206T183451Z
LAST-MODIFIED:20260206T191809Z
UID:10003542-1781001000-1781004600@www.stelizabeth.com
SUMMARY:Oncology Support Services: YCAT Yoga Therapy in Cancer
DESCRIPTION:Exercise Programs: YCAT Yoga Therapy in Cancer\nExercise has been shown to improve quality of life\, help manage treatment side effects\, and lower cancer risk. Our exercise classes are led by qualified instructors who demonstrate safe\, effective techniques that can be adapted for all fitness levels and are designed to support your strength\, energy\, and overall well-being. \nVisit stelizabeth.com/integrative-oncology or call 859-301-4157 for more info.
URL:https://www.stelizabeth.com/event/oncology-support-services-ycat-yoga-therapy-in-cancer/2026-06-09/
LOCATION:St. Elizabeth Edgewood Cancer Center\, 1 Medical Village Drive\, Edgewood\, KY\, 41017\, United States
CATEGORIES:Integrative Oncology
GEO:39.0129322;-84.5620884
X-APPLE-STRUCTURED-LOCATION;VALUE=URI;X-ADDRESS=St. Elizabeth Edgewood Cancer Center 1 Medical Village Drive Edgewood KY 41017 United States;X-APPLE-RADIUS=500;X-TITLE=1 Medical Village Drive:geo:-84.5620884,39.0129322
END:VEVENT
BEGIN:VEVENT
DTSTART;TZID=America/New_York:20260609T110000
DTEND;TZID=America/New_York:20260609T130000
DTSTAMP:20260423T015437
CREATED:20260206T221918Z
LAST-MODIFIED:20260206T221918Z
UID:10004105-1781002800-1781010000@www.stelizabeth.com
SUMMARY:Oncology Support Services: Services in Infusion: Peaceful Pause - Ft. Thomas
DESCRIPTION:Peaceful Pause\nBreathing exercises\, meditation\, and optional prayer to promote calm during infusion. \nVisit stelizabeth.com/integrative-oncology or call 859-301-4157 for more info.
URL:https://www.stelizabeth.com/event/oncology-support-services-services-in-infusion-peaceful-pause-ft-thomas/2026-06-09/
LOCATION:St. Elizabeth Healthcare – Ft. Thomas\, 85 N. Grand Ave\, Ft. Thomas\, 41075\, United States
CATEGORIES:Integrative Oncology
GEO:39.0786773;-84.4668479
X-APPLE-STRUCTURED-LOCATION;VALUE=URI;X-ADDRESS=St. Elizabeth Healthcare – Ft. Thomas 85 N. Grand Ave Ft. Thomas 41075 United States;X-APPLE-RADIUS=500;X-TITLE=85 N. Grand Ave:geo:-84.4668479,39.0786773
END:VEVENT
BEGIN:VEVENT
DTSTART;TZID=America/New_York:20260609T114500
DTEND;TZID=America/New_York:20260609T124500
DTSTAMP:20260423T015437
CREATED:20260206T202453Z
LAST-MODIFIED:20260206T202615Z
UID:10003758-1781005500-1781009100@www.stelizabeth.com
SUMMARY:Oncology Support Services: Meditation
DESCRIPTION:Exercise Programs: Meditation\nExercise has been shown to improve quality of life\, help manage treatment side effects\, and lower cancer risk. Our exercise classes are led by qualified instructors who demonstrate safe\, effective techniques that can be adapted for all fitness levels and are designed to support your strength\, energy\, and overall well-being. \nVisit stelizabeth.com/integrative-oncology or call 859-301-4157 for more info.
URL:https://www.stelizabeth.com/event/oncology-support-services-meditation/2026-06-09/
LOCATION:St. Elizabeth Edgewood Cancer Center\, 1 Medical Village Drive\, Edgewood\, KY\, 41017\, United States
CATEGORIES:Integrative Oncology
GEO:39.0129322;-84.5620884
X-APPLE-STRUCTURED-LOCATION;VALUE=URI;X-ADDRESS=St. Elizabeth Edgewood Cancer Center 1 Medical Village Drive Edgewood KY 41017 United States;X-APPLE-RADIUS=500;X-TITLE=1 Medical Village Drive:geo:-84.5620884,39.0129322
END:VEVENT
BEGIN:VEVENT
DTSTART;TZID=America/New_York:20260609T120000
DTEND;TZID=America/New_York:20260609T140000
DTSTAMP:20260423T015437
CREATED:20260206T215119Z
LAST-MODIFIED:20260206T215915Z
UID:10003908-1781006400-1781013600@www.stelizabeth.com
SUMMARY:Oncology Support Services: Services in Infusion: Art Therapy - Edgewood
DESCRIPTION:Art Therapy\nCreative expression to support relaxation and emotional well-being during infusion. \nVisit stelizabeth.com/integrative-oncology or call 859-301-4157 for more info.
URL:https://www.stelizabeth.com/event/oncology-support-services-art-therapy-edgewood/2026-06-09/
LOCATION:St. Elizabeth Edgewood Cancer Center\, 1 Medical Village Drive\, Edgewood\, KY\, 41017\, United States
CATEGORIES:Integrative Oncology
GEO:39.0129322;-84.5620884
X-APPLE-STRUCTURED-LOCATION;VALUE=URI;X-ADDRESS=St. Elizabeth Edgewood Cancer Center 1 Medical Village Drive Edgewood KY 41017 United States;X-APPLE-RADIUS=500;X-TITLE=1 Medical Village Drive:geo:-84.5620884,39.0129322
END:VEVENT
BEGIN:VEVENT
DTSTART;TZID=America/New_York:20260609T183000
DTEND;TZID=America/New_York:20260609T203000
DTSTAMP:20260423T015437
CREATED:20251202T014844Z
LAST-MODIFIED:20260111T010205Z
UID:10002756-1781029800-1781037000@www.stelizabeth.com
SUMMARY:Breastfeeding Class - June 9\, 2026 - Virtual
DESCRIPTION:Breastfeeding Class - June 9\, 2026\, VIRTUAL\n                            Taught by a Certified Lactation Consultant\, this virtual class offers in-depth preparation for breastfeeding. Recommended for all first-time mothers\, as well as mothers undecided about their choice for infant feeding. Labor partners are strongly encouraged to attend. \n                        \n                        CompanyThis field is for validation purposes and should be left unchanged.Name(Required)\n                            \n                            \n                                                    First\n                                                    \n                                                \n                            \n                            \n                                                            Last\n                                                            \n                                                        \n                            \n                        Phone(Required)Alternative Phone NumberEmail(Required)\n                                \n                                    Enter Email\n                                    \n                                \n                                \n                                    Confirm Email\n                                    \n                                \n                                \n                            Address    \n                    \n                         \n                                        Street Address\n                                        \n                                   \n                                        Address Line 2\n                                        \n                                    \n                                    City\n                                    \n                                 \n                                        State / Province / Region\n                                        \n                                      \n                                    ZIP / Postal Code\n                                    \n                                \n                                        Country\n                                        AfghanistanAlbaniaAlgeriaAmerican SamoaAndorraAngolaAnguillaAntarcticaAntigua and BarbudaArgentinaArmeniaArubaAustraliaAustriaAzerbaijanBahamasBahrainBangladeshBarbadosBelarusBelgiumBelizeBeninBermudaBhutanBoliviaBonaire\, Sint Eustatius and SabaBosnia and HerzegovinaBotswanaBouvet IslandBrazilBritish Indian Ocean TerritoryBrunei DarussalamBulgariaBurkina FasoBurundiCabo VerdeCambodiaCameroonCanadaCayman IslandsCentral African RepublicChadChileChinaChristmas IslandCocos IslandsColombiaComorosCongoCongo\, Democratic Republic of theCook IslandsCosta RicaCroatiaCubaCuraçaoCyprusCzechiaCôte d'IvoireDenmarkDjiboutiDominicaDominican RepublicEcuadorEgyptEl SalvadorEquatorial GuineaEritreaEstoniaEswatiniEthiopiaFalkland IslandsFaroe IslandsFijiFinlandFranceFrench GuianaFrench PolynesiaFrench Southern TerritoriesGabonGambiaGeorgiaGermanyGhanaGibraltarGreeceGreenlandGrenadaGuadeloupeGuamGuatemalaGuernseyGuineaGuinea-BissauGuyanaHaitiHeard Island and McDonald IslandsHoly SeeHondurasHong KongHungaryIcelandIndiaIndonesiaIranIraqIrelandIsle of ManIsraelItalyJamaicaJapanJerseyJordanKazakhstanKenyaKiribatiKorea\, Democratic People's Republic ofKorea\, Republic ofKuwaitKyrgyzstanLao People's Democratic RepublicLatviaLebanonLesothoLiberiaLibyaLiechtensteinLithuaniaLuxembourgMacaoMadagascarMalawiMalaysiaMaldivesMaliMaltaMarshall IslandsMartiniqueMauritaniaMauritiusMayotteMexicoMicronesiaMoldovaMonacoMongoliaMontenegroMontserratMoroccoMozambiqueMyanmarNamibiaNauruNepalNetherlandsNew CaledoniaNew ZealandNicaraguaNigerNigeriaNiueNorfolk IslandNorth MacedoniaNorthern Mariana IslandsNorwayOmanPakistanPalauPalestine\, State ofPanamaPapua New GuineaParaguayPeruPhilippinesPitcairnPolandPortugalPuerto RicoQatarRomaniaRussian FederationRwandaRéunionSaint BarthélemySaint Helena\, Ascension and Tristan da CunhaSaint Kitts and NevisSaint LuciaSaint MartinSaint Pierre and MiquelonSaint Vincent and the GrenadinesSamoaSan MarinoSao Tome and PrincipeSaudi ArabiaSenegalSerbiaSeychellesSierra LeoneSingaporeSint MaartenSlovakiaSloveniaSolomon IslandsSomaliaSouth AfricaSouth Georgia and the South Sandwich IslandsSouth SudanSpainSri LankaSudanSurinameSvalbard and Jan MayenSwedenSwitzerlandSyria Arab RepublicTaiwanTajikistanTanzania\, the United Republic ofThailandTimor-LesteTogoTokelauTongaTrinidad and TobagoTunisiaTurkmenistanTurks and Caicos IslandsTuvaluTürkiyeUS Minor Outlying IslandsUgandaUkraineUnited Arab EmiratesUnited KingdomUnited StatesUruguayUzbekistanVanuatuVenezuelaViet NamVirgin Islands\, BritishVirgin Islands\, U.S.Wallis and FutunaWestern SaharaYemenZambiaZimbabweÅland Islands \n                                    \n                    \n                hCaptcha
URL:https://www.stelizabeth.com/event/breastfeeding-class-june-9-2026-virtual/
LOCATION:https://www.stelizabeth.com/event/breastfeeding-class-june-9-2026-virtual/
CATEGORIES:Birthing Services
END:VEVENT
END:VCALENDAR