BEGIN:VCALENDAR
VERSION:2.0
PRODID:-//St. Elizabeth Healthcare - ECPv6.15.20//NONSGML v1.0//EN
CALSCALE:GREGORIAN
METHOD:PUBLISH
X-WR-CALNAME:St. Elizabeth Healthcare
X-ORIGINAL-URL:https://www.stelizabeth.com
X-WR-CALDESC:Events for St. Elizabeth Healthcare
REFRESH-INTERVAL;VALUE=DURATION:PT1H
X-Robots-Tag:noindex
X-PUBLISHED-TTL:PT1H
BEGIN:VTIMEZONE
TZID:America/New_York
BEGIN:DAYLIGHT
TZOFFSETFROM:-0500
TZOFFSETTO:-0400
TZNAME:EDT
DTSTART:20250309T070000
END:DAYLIGHT
BEGIN:STANDARD
TZOFFSETFROM:-0400
TZOFFSETTO:-0500
TZNAME:EST
DTSTART:20251102T060000
END:STANDARD
BEGIN:DAYLIGHT
TZOFFSETFROM:-0500
TZOFFSETTO:-0400
TZNAME:EDT
DTSTART:20260308T070000
END:DAYLIGHT
BEGIN:STANDARD
TZOFFSETFROM:-0400
TZOFFSETTO:-0500
TZNAME:EST
DTSTART:20261101T060000
END:STANDARD
BEGIN:DAYLIGHT
TZOFFSETFROM:-0500
TZOFFSETTO:-0400
TZNAME:EDT
DTSTART:20270314T070000
END:DAYLIGHT
BEGIN:STANDARD
TZOFFSETFROM:-0400
TZOFFSETTO:-0500
TZNAME:EST
DTSTART:20271107T060000
END:STANDARD
END:VTIMEZONE
BEGIN:VEVENT
DTSTART;TZID=America/New_York:20260420T083000
DTEND;TZID=America/New_York:20260420T143000
DTSTAMP:20260421T053607
CREATED:20260112T190316Z
LAST-MODIFIED:20260112T190316Z
UID:10003465-1776673800-1776695400@www.stelizabeth.com
SUMMARY:CardioVascular Mobile Health Unit — Florence\, KY
DESCRIPTION:The CardioVascular Mobile Health Unit (CVMHU) provides cardiovascular screenings at locations throughout the community. Screenings available are: \n\nPeripheral Artery Disease (PAD)\nStroke/Carotid Artery\nAbdominal Aortic Aneurysm (AAA)\nCardiac Age Heart Risk Assessment\n\nLearn more about screenings offered on the CVMHU. \nCost\nScreenings are $25 each\, all four for $100. \nAsk for your BONUS atrial fibrillation screening at no cost when you schedule. \nReservations\nReservations are required. Call (859) 301-9355 (WELL) to schedule an appointment.
URL:https://www.stelizabeth.com/event/cardiovascular-mobile-health-unit-florence-ky-5/
LOCATION:St. Elizabeth Healthcare Florence Professional Office Building\, 4900 Houston Road\, Florence\, KY\, 41042\, United States
CATEGORIES:Heart & Vascular
GEO:39.0162024;-84.6304442
X-APPLE-STRUCTURED-LOCATION;VALUE=URI;X-ADDRESS=St. Elizabeth Healthcare Florence Professional Office Building 4900 Houston Road Florence KY 41042 United States;X-APPLE-RADIUS=500;X-TITLE=4900 Houston Road:geo:-84.6304442,39.0162024
END:VEVENT
BEGIN:VEVENT
DTSTART;TZID=America/New_York:20260420T083000
DTEND;TZID=America/New_York:20260420T153000
DTSTAMP:20260421T053607
CREATED:20260316T172832Z
LAST-MODIFIED:20260316T172832Z
UID:10004262-1776673800-1776699000@www.stelizabeth.com
SUMMARY:Mobile Mammography Van - Butler\, KY
DESCRIPTION:The American Cancer Society recommends an annual screening mammogram starting at the age of 40. Financial Assistance available to those that qualify. \nDon’t miss the opportunity to receive this important health test in the comfort and privacy of the St. Elizabeth mobile van. \nSchedule on MyChart today or call (877) 424-5750 to make an appointment. Space is limited. \nFollowing the Society of Breast Imaging guidelines\, it is recommended to try to schedule your screening mammogram before your first COVID-19 vaccine dose or at least four weeks after your second vaccine dose. \nFollow the steps below to schedule on MyChart: \n\nSelect “Visits/Appointments” from your MyChart home page.\nSchedule an appointment with “Screening Mammogram” as the reason for visit and answer subsequent questions\nChoose “Mobile Van” as the preferred site.\nChoose your preferred location to view the date(s) and time(s) that the van is available at that site.\nIf your location is not listed\, select “Mobile Mammography Other Location” and select an available appointment on the date and time that the van will be visiting your preferred location.\nSelect time and click “Schedule” to confirm your appointment.
URL:https://www.stelizabeth.com/event/mobile-mammography-van-butler-ky-2/
LOCATION:St. Elizabeth Physicians – Butler\, 79 Country Club Dr.\, Butler\, KY\, 41006\, United States
CATEGORIES:Women's Health
GEO:38.758457;-84.3535644
X-APPLE-STRUCTURED-LOCATION;VALUE=URI;X-ADDRESS=St. Elizabeth Physicians – Butler 79 Country Club Dr. Butler KY 41006 United States;X-APPLE-RADIUS=500;X-TITLE=79 Country Club Dr.:geo:-84.3535644,38.758457
END:VEVENT
BEGIN:VEVENT
DTSTART;TZID=America/New_York:20260420T090000
DTEND;TZID=America/New_York:20260420T113000
DTSTAMP:20260421T053607
CREATED:20260316T172705Z
LAST-MODIFIED:20260316T172705Z
UID:10004261-1776675600-1776684600@www.stelizabeth.com
SUMMARY:Mobile Mammography Van - Owenton\, KY
DESCRIPTION:The American Cancer Society recommends an annual screening mammogram starting at the age of 40. Financial Assistance available to those that qualify. \nDon’t miss the opportunity to receive this important health test in the comfort and privacy of the St. Elizabeth mobile van. \nSchedule on MyChart today or call (877) 424-5750 to make an appointment. Space is limited. \nFollowing the Society of Breast Imaging guidelines\, it is recommended to try to schedule your screening mammogram before your first COVID-19 vaccine dose or at least four weeks after your second vaccine dose. \nFollow the steps below to schedule on MyChart: \n\nSelect “Visits/Appointments” from your MyChart home page.\nSchedule an appointment with “Screening Mammogram” as the reason for visit and answer subsequent questions\nChoose “Mobile Van” as the preferred site.\nChoose your preferred location to view the date(s) and time(s) that the van is available at that site.\nIf your location is not listed\, select “Mobile Mammography Other Location” and select an available appointment on the date and time that the van will be visiting your preferred location.\nSelect time and click “Schedule” to confirm your appointment.
URL:https://www.stelizabeth.com/event/mobile-mammography-van-owenton-ky-2/
LOCATION:TRIAD – Owenton\, 120 Progress Way\, Owenton\, KY\, 40359\, United States
CATEGORIES:Women's Health
GEO:38.5517175;-84.8432516
X-APPLE-STRUCTURED-LOCATION;VALUE=URI;X-ADDRESS=TRIAD – Owenton 120 Progress Way Owenton KY 40359 United States;X-APPLE-RADIUS=500;X-TITLE=120 Progress Way:geo:-84.8432516,38.5517175
END:VEVENT
BEGIN:VEVENT
DTSTART;TZID=America/New_York:20260420T170000
DTEND;TZID=America/New_York:20260420T180000
DTSTAMP:20260421T053607
CREATED:20251106T005817Z
LAST-MODIFIED:20260111T010302Z
UID:10002766-1776704400-1776708000@www.stelizabeth.com
SUMMARY:Family Birthplace Tour - April 20\, 2026
DESCRIPTION:This class is full. Registration is now closed.
URL:https://www.stelizabeth.com/event/family-birthplace-tour-april-20-2026/
LOCATION:St. Elizabeth Healthcare – Edgewood\, KY\, 1 Medical Center Drive\, Edgewood\, KY\, 41017\, United States
CATEGORIES:Birthing Services
GEO:39.0186719;-84.581888
X-APPLE-STRUCTURED-LOCATION;VALUE=URI;X-ADDRESS=St. Elizabeth Healthcare – Edgewood KY 1 Medical Center Drive Edgewood KY 41017 United States;X-APPLE-RADIUS=500;X-TITLE=1 Medical Center Drive:geo:-84.581888,39.0186719
END:VEVENT
BEGIN:VEVENT
DTSTART;TZID=America/New_York:20260420T180000
DTEND;TZID=America/New_York:20260420T200000
DTSTAMP:20260421T053607
CREATED:20251120T015546Z
LAST-MODIFIED:20260111T010259Z
UID:10002765-1776708000-1776715200@www.stelizabeth.com
SUMMARY:Basic Childbirth Education 4 Week Series - Virtual - April 20\, 2026
DESCRIPTION:This class is full. Registration is now closed.
URL:https://www.stelizabeth.com/event/basic-childbirth-education-4-week-series-virtual-april-20-2026/
LOCATION:https://www.stelizabeth.com/event/basic-childbirth-education-4-week-series-virtual-april-20-2026/
CATEGORIES:Birthing Services
END:VEVENT
END:VCALENDAR